BEGIN:VCALENDAR
VERSION:2.0
PRODID:-//Lac du Bourget - ECPv6.15.20//NONSGML v1.0//EN
CALSCALE:GREGORIAN
METHOD:PUBLISH
X-WR-CALNAME:Lac du Bourget
X-ORIGINAL-URL:https://www.lac-du-bourget.com
X-WR-CALDESC:Évènements pour Lac du Bourget
REFRESH-INTERVAL;VALUE=DURATION:PT1H
X-Robots-Tag:noindex
X-PUBLISHED-TTL:PT1H
BEGIN:VTIMEZONE
TZID:Europe/Paris
BEGIN:DAYLIGHT
TZOFFSETFROM:+0100
TZOFFSETTO:+0200
TZNAME:CEST
DTSTART:20210328T010000
END:DAYLIGHT
BEGIN:STANDARD
TZOFFSETFROM:+0200
TZOFFSETTO:+0100
TZNAME:CET
DTSTART:20211031T010000
END:STANDARD
BEGIN:DAYLIGHT
TZOFFSETFROM:+0100
TZOFFSETTO:+0200
TZNAME:CEST
DTSTART:20220327T010000
END:DAYLIGHT
BEGIN:STANDARD
TZOFFSETFROM:+0200
TZOFFSETTO:+0100
TZNAME:CET
DTSTART:20221030T010000
END:STANDARD
BEGIN:DAYLIGHT
TZOFFSETFROM:+0100
TZOFFSETTO:+0200
TZNAME:CEST
DTSTART:20230326T010000
END:DAYLIGHT
BEGIN:STANDARD
TZOFFSETFROM:+0200
TZOFFSETTO:+0100
TZNAME:CET
DTSTART:20231029T010000
END:STANDARD
END:VTIMEZONE
BEGIN:VEVENT
DTSTART;TZID=Europe/Paris:20221210T140000
DTEND;TZID=Europe/Paris:20221210T171500
DTSTAMP:20260420T204211
CREATED:20221113T205438Z
LAST-MODIFIED:20221113T205438Z
UID:12133-1670680800-1670692500@www.lac-du-bourget.com
SUMMARY:Le cirque des étoiles - Le Bourget-du-Lac
DESCRIPTION:Un marché de Noël\, des ateliers et jeux pour les enfants et la présence du Père Noël himself ! \nOutre ces réjouissances\, un spectacle de magie accessible à partir de 3 ans sera proposé pour une durée de 35 minutes. \nHoraires\n\n\nHoraires de représentation le samedi de 14h à 14h45 et de 16h30 à 17h15. \nAdresse\nEspace culturel la Traverse\nAvenue du Lac de Constance\nSavoie Technolac\n73370 Le Bourget-du-Lac
URL:https://www.lac-du-bourget.com/evenement/le-cirque-des-etoiles-le-bourget-du-lac/
LOCATION:Le Bourget-du-Lac\, Le Bourget-du-Lac\, 73370\, France
CATEGORIES:Spectacle
ATTACH;FMTTYPE=image/jpeg:https://www.lac-du-bourget.com/wp-content/uploads/2022/11/cirque-des-etoiles-spectacle-le-bourget-du-lac-1.jpg
END:VEVENT
BEGIN:VEVENT
DTSTART;TZID=Europe/Paris:20221217T190000
DTEND;TZID=Europe/Paris:20221217T203000
DTSTAMP:20260420T204211
CREATED:20221216T130309Z
LAST-MODIFIED:20221216T130309Z
UID:12277-1671303600-1671309000@www.lac-du-bourget.com
SUMMARY:Mapping vidéo Aix les Bains
DESCRIPTION:Rendez-vous pour le désormais « traditionnel » mapping vidéo de Noël projeté sur la façade de la mairie d’Aix-les-Bains\, Place Maurice Mollard. \n3 HORAIRES\n\n19h\n19h30\n20h\n\nVIDEO\n 
URL:https://www.lac-du-bourget.com/evenement/mapping-video-aix-les-bains/
LOCATION:Aix-les-Bains\, Aix-les-Bains\, 73100
CATEGORIES:Spectacle
ATTACH;FMTTYPE=image/jpeg:https://www.lac-du-bourget.com/wp-content/uploads/2022/12/mapping-video-aix-les-bains-noel.jpg
END:VEVENT
BEGIN:VEVENT
DTSTART;TZID=Europe/Paris:20221218T160000
DTEND;TZID=Europe/Paris:20221218T180000
DTSTAMP:20260420T204211
CREATED:20221113T214911Z
LAST-MODIFIED:20221128T112718Z
UID:12154-1671379200-1671386400@www.lac-du-bourget.com
SUMMARY:Spectacle de Noël - Aix-les-Bains
DESCRIPTION:Spectacle de Noël donnée par l’Académie de Danse d’Aix-les-Bains qui regroupe environ 200 danseurs de tout âge aux chorégraphies variées :  street jazz\, danse orientale\, danses de couples salsa\, bachata\, kizomba\, rock’n swing et tango argentin. Il est toujours couronné par l’arrivée du Père Noël qui ne saurait manquer à cette fête qui ravit les spectateurs mais aussi les danseurs. \nAdresse\nThéâtre du Casino Grand Cercle\n200 rue du Casino\n73100 Aix-les-Bains \nTarifs\n\n\n\nAdulte : 13 €\, Enfant (12 ans) : 8 €. \n 
URL:https://www.lac-du-bourget.com/evenement/spectacle-de-noel-aix-les-bains/
LOCATION:Aix-les-Bains\, Aix-les-Bains\, 73100
CATEGORIES:Spectacle
ATTACH;FMTTYPE=image/jpeg:https://www.lac-du-bourget.com/wp-content/uploads/2022/11/Spectacle-de-Noel-Aix-les-Bains-1.jpg
END:VEVENT
BEGIN:VEVENT
DTSTART;TZID=Europe/Paris:20221224T180000
DTEND;TZID=Europe/Paris:20221224T200000
DTSTAMP:20260420T204211
CREATED:20221113T215400Z
LAST-MODIFIED:20221128T112703Z
UID:12158-1671904800-1671912000@www.lac-du-bourget.com
SUMMARY:Pest'acle de Noël à Aillon-le-Jeune
DESCRIPTION:Cette année\, Noël sera différent… le Père Noël va avoir une belle surprise.\nLa chorale de Noël va lui offrir en cadeau\, une chanson ! \nMais le Père Noël a disparu… Une lettre sur son bureau va nous entrainer dans la folle vadrouille de Noël. \nLes enfants auront surtout la possibilité de faire ses vœux auprès d’un Grand Monsieur… \nAdresse\nSalle de l’Europe\nLes Nivéoles\n73340 Aillon-le-Jeune \n\n\nContact\nTéléphone : 06 38 52 22 38  (Portable)\nTéléphone : 04 79 54 07 49  (Ligne fixe)
URL:https://www.lac-du-bourget.com/evenement/pestacle-de-noel-a-aillon-le-jeune/
LOCATION:Aillon-le-Jeune\, Aillon-le-Jeune\, 73340\, France
CATEGORIES:Spectacle
ATTACH;FMTTYPE=image/jpeg:https://www.lac-du-bourget.com/wp-content/uploads/2022/11/Pestacle-de-Noel-a-Aillon-le-Jeune-2.jpg
END:VEVENT
END:VCALENDAR