BEGIN:VCALENDAR
VERSION:2.0
PRODID:-//Lac du Bourget - ECPv6.15.20//NONSGML v1.0//EN
CALSCALE:GREGORIAN
METHOD:PUBLISH
X-WR-CALNAME:Lac du Bourget
X-ORIGINAL-URL:https://www.lac-du-bourget.com
X-WR-CALDESC:Évènements pour Lac du Bourget
REFRESH-INTERVAL;VALUE=DURATION:PT1H
X-Robots-Tag:noindex
X-PUBLISHED-TTL:PT1H
BEGIN:VTIMEZONE
TZID:Europe/Paris
BEGIN:DAYLIGHT
TZOFFSETFROM:+0100
TZOFFSETTO:+0200
TZNAME:CEST
DTSTART:20210328T010000
END:DAYLIGHT
BEGIN:STANDARD
TZOFFSETFROM:+0200
TZOFFSETTO:+0100
TZNAME:CET
DTSTART:20211031T010000
END:STANDARD
BEGIN:DAYLIGHT
TZOFFSETFROM:+0100
TZOFFSETTO:+0200
TZNAME:CEST
DTSTART:20220327T010000
END:DAYLIGHT
BEGIN:STANDARD
TZOFFSETFROM:+0200
TZOFFSETTO:+0100
TZNAME:CET
DTSTART:20221030T010000
END:STANDARD
BEGIN:DAYLIGHT
TZOFFSETFROM:+0100
TZOFFSETTO:+0200
TZNAME:CEST
DTSTART:20230326T010000
END:DAYLIGHT
BEGIN:STANDARD
TZOFFSETFROM:+0200
TZOFFSETTO:+0100
TZNAME:CET
DTSTART:20231029T010000
END:STANDARD
BEGIN:DAYLIGHT
TZOFFSETFROM:+0100
TZOFFSETTO:+0200
TZNAME:CEST
DTSTART:20240331T010000
END:DAYLIGHT
BEGIN:STANDARD
TZOFFSETFROM:+0200
TZOFFSETTO:+0100
TZNAME:CET
DTSTART:20241027T010000
END:STANDARD
BEGIN:DAYLIGHT
TZOFFSETFROM:+0100
TZOFFSETTO:+0200
TZNAME:CEST
DTSTART:20250330T010000
END:DAYLIGHT
BEGIN:STANDARD
TZOFFSETFROM:+0200
TZOFFSETTO:+0100
TZNAME:CET
DTSTART:20251026T010000
END:STANDARD
BEGIN:DAYLIGHT
TZOFFSETFROM:+0100
TZOFFSETTO:+0200
TZNAME:CEST
DTSTART:20260329T010000
END:DAYLIGHT
BEGIN:STANDARD
TZOFFSETFROM:+0200
TZOFFSETTO:+0100
TZNAME:CET
DTSTART:20261025T010000
END:STANDARD
END:VTIMEZONE
BEGIN:VEVENT
DTSTART;VALUE=DATE:20251214
DTEND;VALUE=DATE:20251215
DTSTAMP:20260419T171142
CREATED:20251125T084522Z
LAST-MODIFIED:20251125T084522Z
UID:15280-1765670400-1765756799@www.lac-du-bourget.com
SUMMARY:Parade « Le Bal de Noël »
DESCRIPTION:Grande parade lumineuse le 14 décembre à 17h30 au départ de la place Maurice-Mollard vers le square Alfred-Boucher puis retour\, avec calèche géante\, danseurs\, princesses\, cygnes lumineux\, allumeurs de réverbères et arrivée du Père Noël.
URL:https://www.lac-du-bourget.com/evenement/parade-le-bal-de-noel/
LOCATION:Aix-les-Bains\, Aix-les-Bains\, 73100
CATEGORIES:Fêtes,Spectacle
END:VEVENT
BEGIN:VEVENT
DTSTART;VALUE=DATE:20251212
DTEND;VALUE=DATE:20251213
DTSTAMP:20260419T171142
CREATED:20251125T084522Z
LAST-MODIFIED:20251125T084522Z
UID:15279-1765497600-1765583999@www.lac-du-bourget.com
SUMMARY:Le Bal viennois de Noël
DESCRIPTION:Bal viennois organisé par l’Académie de danse le 12 décembre à 16h30 au square Alfred-Boucher\, avec valses de Johann Strauss\, robes tourbillonnantes et participation du public\, repli possible à l’arrière-scène du Théâtre de Verdure.
URL:https://www.lac-du-bourget.com/evenement/le-bal-viennois-de-noel/
LOCATION:Aix-les-Bains\, Aix-les-Bains\, 73100
CATEGORIES:Fêtes,Spectacle
END:VEVENT
BEGIN:VEVENT
DTSTART;VALUE=DATE:20251210
DTEND;VALUE=DATE:20251220
DTSTAMP:20260419T171142
CREATED:20251125T083952Z
LAST-MODIFIED:20251125T083952Z
UID:15300-1765324800-1766188799@www.lac-du-bourget.com
SUMMARY:Le Conservatoire fête Noël
DESCRIPTION:Saison de concerts et spectacles du Conservatoire d’Aix-les-Bains du 10 au 19 décembre à l’Auditorium Maurice-Adam\, avec jazz\, orchestres\, ensembles de cuivres\, spectacles pour enfants et soirées thématiques.
URL:https://www.lac-du-bourget.com/evenement/le-conservatoire-fete-noel/
LOCATION:Aix-les-Bains\, Aix-les-Bains\, 73100
CATEGORIES:Spectacle
END:VEVENT
BEGIN:VEVENT
DTSTART;VALUE=DATE:20251207
DTEND;VALUE=DATE:20251208
DTSTAMP:20260419T171142
CREATED:20251125T084810Z
LAST-MODIFIED:20251125T084810Z
UID:15297-1765065600-1765151999@www.lac-du-bourget.com
SUMMARY:DEVA fête Noël au profit du Téléthon
DESCRIPTION:Boum de Noël le 7 décembre de 15h à 17h au Théâtre de Verdure avec les élèves de DEVA\, au profit du Téléthon grâce à une collecte sur place.
URL:https://www.lac-du-bourget.com/evenement/deva-fete-noel-au-profit-du-telethon/
LOCATION:Aix-les-Bains\, Aix-les-Bains\, 73100
CATEGORIES:Spectacle
END:VEVENT
BEGIN:VEVENT
DTSTART;VALUE=DATE:20251207
DTEND;VALUE=DATE:20251208
DTSTAMP:20260419T171142
CREATED:20251125T084522Z
LAST-MODIFIED:20251125T084522Z
UID:15278-1765065600-1765151999@www.lac-du-bourget.com
SUMMARY:Mamz’elle Bee and the Toyz
DESCRIPTION:Deux concerts swing en plein air le 7 décembre\, à 15h place du Revard puis à 17h au Grand Passage rue de Genève\, avec cinq musiciens en costumes de Casse-Noisette et un décor mobile illuminé.
URL:https://www.lac-du-bourget.com/evenement/mamzelle-bee-and-the-toyz/
LOCATION:Aix-les-Bains\, Aix-les-Bains\, 73100
CATEGORIES:Fêtes,Spectacle
END:VEVENT
BEGIN:VEVENT
DTSTART;VALUE=DATE:20251207
DTEND;VALUE=DATE:20251208
DTSTAMP:20260419T171142
CREATED:20251125T084002Z
LAST-MODIFIED:20251125T084002Z
UID:15299-1765065600-1765151999@www.lac-du-bourget.com
SUMMARY:Chants et contes de Noël – Nine Lessons & Carols
DESCRIPTION:Veillée Nine Lessons and Carols le 7 décembre à 17h30 à l’église Saint-Swithun\, avec chants et lectures de Noël proposée par l’association Grapevine.
URL:https://www.lac-du-bourget.com/evenement/chants-et-contes-de-noel-nine-lessons-carols/
LOCATION:Aix-les-Bains\, Aix-les-Bains\, 73100
CATEGORIES:Spectacle
END:VEVENT
BEGIN:VEVENT
DTSTART;VALUE=DATE:20251206
DTEND;VALUE=DATE:20251207
DTSTAMP:20260419T171142
CREATED:20251125T084821Z
LAST-MODIFIED:20251125T084821Z
UID:15276-1764979200-1765065599@www.lac-du-bourget.com
SUMMARY:Balade à moto des Pères Noël contre le cancer
DESCRIPTION:Balade caritative à moto au profit de la lutte contre le cancer du sein\, organisée par l’association Des yeux pour une Victoire\, avec arrivée du cortège de motos décorées place Maurice-Mollard vers 15h30 après un départ de Carrefour Bassens.
URL:https://www.lac-du-bourget.com/evenement/balade-a-moto-des-peres-noel-contre-le-cancer/
LOCATION:Aix-les-Bains\, Aix-les-Bains\, 73100
CATEGORIES:Spectacle
END:VEVENT
BEGIN:VEVENT
DTSTART;VALUE=DATE:20251206
DTEND;VALUE=DATE:20251207
DTSTAMP:20260419T171142
CREATED:20251121T075903Z
LAST-MODIFIED:20251121T075903Z
UID:15212-1764979200-1765065599@www.lac-du-bourget.com
SUMMARY:Élie Semoun - Cactus
DESCRIPTION:Élie Semoun présente Cactus\, son 8e spectacle\, samedi 6 décembre 2025 à 20h30 au Théâtre du Casino Grand Cercle à Aix-les-Bains. Dans ce one-man-show où le stand-up prend le dessus sans renier ses personnages\, l’humoriste pose un regard piquant sur notre société et ses tabous. Une soirée idéale pour les amateurs d’humour incisif.
URL:https://www.lac-du-bourget.com/evenement/elie-semoun-cactus/
LOCATION:Aix-les-Bains\, Aix-les-Bains\, 73100
CATEGORIES:Spectacle
END:VEVENT
BEGIN:VEVENT
DTSTART;VALUE=DATE:20251205
DTEND;VALUE=DATE:20251206
DTSTAMP:20260419T171142
CREATED:20251125T084522Z
LAST-MODIFIED:20251125T084522Z
UID:15275-1764892800-1764979199@www.lac-du-bourget.com
SUMMARY:Le Bal des Merveilles
DESCRIPTION:Grand bal féerique proposé par l’école de danse 6th Art le 5 décembre à 18h\, place Carnot\, avec costumes scintillants et ambiance Belle Époque\, repli possible à l’arrière-scène du Théâtre de Verdure en cas de mauvais temps.
URL:https://www.lac-du-bourget.com/evenement/le-bal-des-merveilles/
LOCATION:Aix-les-Bains\, Aix-les-Bains\, 73100
CATEGORIES:Fêtes,Spectacle
END:VEVENT
BEGIN:VEVENT
DTSTART;VALUE=DATE:20251121
DTEND;VALUE=DATE:20251122
DTSTAMP:20260419T171142
CREATED:20251121T075933Z
LAST-MODIFIED:20251121T075933Z
UID:15209-1763683200-1763769599@www.lac-du-bourget.com
SUMMARY:Les Liaisons dangereuses
DESCRIPTION:Les Liaisons dangereuses s’invitent au Théâtre du Casino Grand Cercle à Aix-les-Bains le vendredi 21 novembre 2025 à 20h30. Adaptation d’Arnaud Denis du roman de Laclos\, portée par Delphine Depardieu et une brillante distribution. Une soirée de théâtre intense entre séduction et manipulation. Billets dès 10 €.
URL:https://www.lac-du-bourget.com/evenement/les-liaisons-dangereuses/
LOCATION:Aix-les-Bains\, Aix-les-Bains\, 73100
CATEGORIES:Spectacle
END:VEVENT
BEGIN:VEVENT
DTSTART;VALUE=DATE:20251001
DTEND;VALUE=DATE:20251006
DTSTAMP:20260419T171142
CREATED:20250929T055745Z
LAST-MODIFIED:20250929T055745Z
UID:15047-1759276800-1759708799@www.lac-du-bourget.com
SUMMARY:Cirque Arlette Gruss
DESCRIPTION:Retrouvez le cirque Arlette Gruss sur l’esplanade du lac à Aix-les-Bains. \nLes Séances \nmer. 01 oct. 2025 14:30 \nPack Famille \njeu. 02 oct. 2025 19:30 \nSéance à tarif réduit \nven. 03 oct. 2025 19:30 \nPack Famille \nsam. 04 oct. 2025 14:00 \nTarif normal \nsam. 04 oct. 2025 17:00 \nTarif normal \nsam. 04 oct. 2025 20:00 \nPack Famille \ndim. 05 oct. 2025 10:00 \nPack Famille \ndim. 05 oct. 2025 14:00 \nTarif normal \ndim. 05 oct. 2025 17:00 \nTarif normal
URL:https://www.lac-du-bourget.com/evenement/cirque-arlette-gruss/
LOCATION:Aix-les-Bains\, Aix-les-Bains\, 73100
CATEGORIES:Spectacle
ATTACH;FMTTYPE=image/jpeg:https://www.lac-du-bourget.com/wp-content/uploads/2025/09/le-chapiteau-cirque-arlette-gruss.jpg
END:VEVENT
BEGIN:VEVENT
DTSTART;VALUE=DATE:20241201
DTEND;VALUE=DATE:20250107
DTSTAMP:20260419T171142
CREATED:20241128T104811Z
LAST-MODIFIED:20241128T104811Z
UID:14289-1733011200-1736207999@www.lac-du-bourget.com
SUMMARY:Programme des Animations de Noël à Aix-les-Bains 2024
DESCRIPTION:Du 1er décembre au 6 janvier\, Aix-les-Bains célèbre la magie de Noël avec un programme riche et varié. Voici les temps forts à ne pas manquer : \nIlluminations de la Ville : Dès le 1er décembre\, lancement à 17h30 place Maurice Mollard\, avec « Karl » le bonhomme de neige et « Doggy » au square du Temple de Diane. \nExposition « Jeux et Contes d’Hiver » : Du 3 au 14 décembre à la Bibliothèque municipale Lamartine. \nSoupe Pop-Rock de la MJC : Le 6 décembre\, de 19h à 22h30 à la Maison des Arts et de la Jeunesse\, au profit du Secours Populaire. \nWeek-end de Clôture du Musée Faure : Les 7 et 8 décembre\, animations gratuites avant fermeture pour travaux. \nGoûter de Noël : Le 11 décembre\, de 16h à 18h\, place Clemenceau. \nParade de Noël : Le 14 décembre\, départ à 17h30 de la place Maurice Mollard avec la Caravane polaire et Nanuq\, la grande ourse. \nMarchés de Noël : \nLes Chalets du Casino : Jusqu’au 4 janvier. \nMarché des Créateurs By Cre’art : Le 14 décembre au square du Temple de Diane. \nMarché de Noël de la Chouette de l’Espoir : Le 15 décembre au Centre des Congrès. \nMarchés des Artisans et Créateurs : Du 13 au 15 et du 20 au 22 décembre au Casino Grand Cercle. \nAteliers créatifs pour enfants : Le 14 décembre\, de 14h à 16h\, au Théâtre de Verdure. \nMapping Vidéo et Animation Musicale : Le 27 décembre\, à 18h30\, place Maurice Mollard. \nBalades solidaires des Pères Noël à moto : \n\nLe 21 décembre à 14h30 pour la Croix-Rouge.\nLe 22 décembre à 15h30 au profit de l’association « À chacun son Everest ».\n\nSpectacles et concerts : \n\n\n\nBallet Casse-Noisette : Le 7 décembre à 20h.\nConcert de l’Orchestre d’Harmonie : Le 15 décembre à 15h30.\nSpectacle de l’Académie de Danse : Le 15 décembre à 16h30.\n\n\n\nUn mois entier de festivités pour célébrer Noël à Aix-les-Bains dans une ambiance féerique !
URL:https://www.lac-du-bourget.com/evenement/programme-des-animations-de-noel-a-aix-les-bains-2024/
LOCATION:Aix-les-Bains\, Aix-les-Bains\, 73100
CATEGORIES:Fêtes,Marché,Spectacle
ATTACH;FMTTYPE=image/jpeg:https://www.lac-du-bourget.com/wp-content/uploads/2024/11/Programme-Aix-les-Bains-Noel-2024.jpg
END:VEVENT
BEGIN:VEVENT
DTSTART;TZID=Europe/Paris:20231229T190000
DTEND;TZID=Europe/Paris:20231229T200000
DTSTAMP:20260419T171142
CREATED:20231130T215029Z
LAST-MODIFIED:20231130T215029Z
UID:13713-1703876400-1703880000@www.lac-du-bourget.com
SUMMARY:Mapping Vidéo à Aix-les-Bains
DESCRIPTION:Les fameuses projections sur la façade de l’Hôtel de Ville d’Aix-les-Bains. \nProjections à 19h et 19h30 \nPlace Maurice Mollard
URL:https://www.lac-du-bourget.com/evenement/mapping-video-a-aix-les-bains/
LOCATION:Aix-les-Bains\, Aix-les-Bains\, 73100
CATEGORIES:Spectacle
ATTACH;FMTTYPE=image/jpeg:https://www.lac-du-bourget.com/wp-content/uploads/2023/11/mapping-video-aix-les-bains-mairie.jpg
END:VEVENT
BEGIN:VEVENT
DTSTART;TZID=Europe/Paris:20231216T173000
DTEND;TZID=Europe/Paris:20231216T190000
DTSTAMP:20260419T171143
CREATED:20231130T213910Z
LAST-MODIFIED:20231130T213910Z
UID:13709-1702747800-1702753200@www.lac-du-bourget.com
SUMMARY:Grande Parade de Noël d'Aix-les-Bains
DESCRIPTION:La parade empruntera la place Clemenceau pour aller jusqu’à la place Maurice Mollard\, en passant par la rue de Genève\, la rue du Casino\, la rue des Bains et le square du Temple de Diane.\nPoupées géantes (divas hautes perchées aux voix cristallines)\, traîneau du Père Noël\, maquillage …
URL:https://www.lac-du-bourget.com/evenement/grande-parade-de-noel-daix-les-bains/
LOCATION:Aix-les-Bains\, Aix-les-Bains\, 73100
CATEGORIES:Spectacle
ATTACH;FMTTYPE=image/jpeg:https://www.lac-du-bourget.com/wp-content/uploads/2023/11/Programme-noel-Aix-les-Bains-1.jpg
END:VEVENT
BEGIN:VEVENT
DTSTART;TZID=Europe/Paris:20231206T110000
DTEND;TZID=Europe/Paris:20231206T180000
DTSTAMP:20260419T171143
CREATED:20231130T212940Z
LAST-MODIFIED:20231130T212940Z
UID:13705-1701860400-1701885600@www.lac-du-bourget.com
SUMMARY:Déambulation Boîte à musique Casse-Noisette à Aix-les-Bains
DESCRIPTION:Premier passage à 11h puis en après-midi en centre-ville. \nLes passants aixois seront interpellés par deux soldats de plomb géants qui agiront avec leur sceptre royal pour les inviter à se joindre à eux dans le joyeux cortège. \nLes enfants pourront se faire maquiller gratuitement square Alfred Boucher en fin d’après-midi.
URL:https://www.lac-du-bourget.com/evenement/deambulation-boite-a-musique-casse-noisette-a-aix-les-bains/
LOCATION:Aix-les-Bains\, Aix-les-Bains\, 73100
CATEGORIES:Spectacle
ATTACH;FMTTYPE=image/jpeg:https://www.lac-du-bourget.com/wp-content/uploads/2023/11/Programme-noel-Aix-les-Bains-1.jpg
END:VEVENT
BEGIN:VEVENT
DTSTART;TZID=Europe/Paris:20231203T150000
DTEND;TZID=Europe/Paris:20231203T170000
DTSTAMP:20260419T171143
CREATED:20231129T181650Z
LAST-MODIFIED:20231129T181650Z
UID:13703-1701615600-1701622800@www.lac-du-bourget.com
SUMMARY:Parade "Ballet Casse-Noisette et le Roi"
DESCRIPTION:La parade de rue inspirée de l’histoire de «Casse-Noisette» met en scène des personnages emblématiques tels que Maria\, le personnage principal\, la poupée Clara et le soldat\, le cygne blanc\, le cygne noir. \nCasse-Noisette\, de Tchaïkovski\, est certainement le ballet le plus accessible au plus grand nombre\, notamment pour les enfants … On craque à l’idée de voir ce spectacle 🙂 \nLieu : centre-ville \n 
URL:https://www.lac-du-bourget.com/evenement/parade-ballet-casse-noisette-et-le-roi/
LOCATION:Aix-les-Bains\, Aix-les-Bains\, 73100
CATEGORIES:Spectacle
ATTACH;FMTTYPE=image/jpeg:https://www.lac-du-bourget.com/wp-content/uploads/2023/11/Programme-noel-Aix-les-Bains-1.jpg
END:VEVENT
BEGIN:VEVENT
DTSTART;TZID=Europe/Paris:20231201T190000
DTEND;TZID=Europe/Paris:20231201T210000
DTSTAMP:20260419T171143
CREATED:20231129T180737Z
LAST-MODIFIED:20231129T181754Z
UID:13698-1701457200-1701464400@www.lac-du-bourget.com
SUMMARY:Lancement des illuminations de Noël d'Aix-les-Bains
DESCRIPTION:Aix-les-Bains sera illuminée des lumières de Noël du 1er décembre 2023 au 8 janvier 2024\nLancement le vendredi 1er décembre à 19h au square Alfred Boucher avec « The Nutcracker Ballet Noël »\, un spectacle de marionnettes à fils.
URL:https://www.lac-du-bourget.com/evenement/lancement-illuminations-noel-aix-les-bains/
LOCATION:Aix-les-Bains\, Aix-les-Bains\, 73100
CATEGORIES:Fêtes,Spectacle
ATTACH;FMTTYPE=image/jpeg:https://www.lac-du-bourget.com/wp-content/uploads/2023/11/Programme-noel-Aix-les-Bains-1.jpg
END:VEVENT
BEGIN:VEVENT
DTSTART;TZID=Europe/Paris:20221224T180000
DTEND;TZID=Europe/Paris:20221224T200000
DTSTAMP:20260419T171143
CREATED:20221113T215400Z
LAST-MODIFIED:20221128T112703Z
UID:12158-1671904800-1671912000@www.lac-du-bourget.com
SUMMARY:Pest'acle de Noël à Aillon-le-Jeune
DESCRIPTION:Cette année\, Noël sera différent… le Père Noël va avoir une belle surprise.\nLa chorale de Noël va lui offrir en cadeau\, une chanson ! \nMais le Père Noël a disparu… Une lettre sur son bureau va nous entrainer dans la folle vadrouille de Noël. \nLes enfants auront surtout la possibilité de faire ses vœux auprès d’un Grand Monsieur… \nAdresse\nSalle de l’Europe\nLes Nivéoles\n73340 Aillon-le-Jeune \n\n\nContact\nTéléphone : 06 38 52 22 38  (Portable)\nTéléphone : 04 79 54 07 49  (Ligne fixe)
URL:https://www.lac-du-bourget.com/evenement/pestacle-de-noel-a-aillon-le-jeune/
LOCATION:Aillon-le-Jeune\, Aillon-le-Jeune\, 73340\, France
CATEGORIES:Spectacle
ATTACH;FMTTYPE=image/jpeg:https://www.lac-du-bourget.com/wp-content/uploads/2022/11/Pestacle-de-Noel-a-Aillon-le-Jeune-2.jpg
END:VEVENT
BEGIN:VEVENT
DTSTART;TZID=Europe/Paris:20221218T160000
DTEND;TZID=Europe/Paris:20221218T180000
DTSTAMP:20260419T171143
CREATED:20221113T214911Z
LAST-MODIFIED:20221128T112718Z
UID:12154-1671379200-1671386400@www.lac-du-bourget.com
SUMMARY:Spectacle de Noël - Aix-les-Bains
DESCRIPTION:Spectacle de Noël donnée par l’Académie de Danse d’Aix-les-Bains qui regroupe environ 200 danseurs de tout âge aux chorégraphies variées :  street jazz\, danse orientale\, danses de couples salsa\, bachata\, kizomba\, rock’n swing et tango argentin. Il est toujours couronné par l’arrivée du Père Noël qui ne saurait manquer à cette fête qui ravit les spectateurs mais aussi les danseurs. \nAdresse\nThéâtre du Casino Grand Cercle\n200 rue du Casino\n73100 Aix-les-Bains \nTarifs\n\n\n\nAdulte : 13 €\, Enfant (12 ans) : 8 €. \n 
URL:https://www.lac-du-bourget.com/evenement/spectacle-de-noel-aix-les-bains/
LOCATION:Aix-les-Bains\, Aix-les-Bains\, 73100
CATEGORIES:Spectacle
ATTACH;FMTTYPE=image/jpeg:https://www.lac-du-bourget.com/wp-content/uploads/2022/11/Spectacle-de-Noel-Aix-les-Bains-1.jpg
END:VEVENT
BEGIN:VEVENT
DTSTART;TZID=Europe/Paris:20221217T190000
DTEND;TZID=Europe/Paris:20221217T203000
DTSTAMP:20260419T171143
CREATED:20221216T130309Z
LAST-MODIFIED:20221216T130309Z
UID:12277-1671303600-1671309000@www.lac-du-bourget.com
SUMMARY:Mapping vidéo Aix les Bains
DESCRIPTION:Rendez-vous pour le désormais « traditionnel » mapping vidéo de Noël projeté sur la façade de la mairie d’Aix-les-Bains\, Place Maurice Mollard. \n3 HORAIRES\n\n19h\n19h30\n20h\n\nVIDEO\n 
URL:https://www.lac-du-bourget.com/evenement/mapping-video-aix-les-bains/
LOCATION:Aix-les-Bains\, Aix-les-Bains\, 73100
CATEGORIES:Spectacle
ATTACH;FMTTYPE=image/jpeg:https://www.lac-du-bourget.com/wp-content/uploads/2022/12/mapping-video-aix-les-bains-noel.jpg
END:VEVENT
BEGIN:VEVENT
DTSTART;TZID=Europe/Paris:20221210T140000
DTEND;TZID=Europe/Paris:20221210T171500
DTSTAMP:20260419T171143
CREATED:20221113T205438Z
LAST-MODIFIED:20221113T205438Z
UID:12133-1670680800-1670692500@www.lac-du-bourget.com
SUMMARY:Le cirque des étoiles - Le Bourget-du-Lac
DESCRIPTION:Un marché de Noël\, des ateliers et jeux pour les enfants et la présence du Père Noël himself ! \nOutre ces réjouissances\, un spectacle de magie accessible à partir de 3 ans sera proposé pour une durée de 35 minutes. \nHoraires\n\n\nHoraires de représentation le samedi de 14h à 14h45 et de 16h30 à 17h15. \nAdresse\nEspace culturel la Traverse\nAvenue du Lac de Constance\nSavoie Technolac\n73370 Le Bourget-du-Lac
URL:https://www.lac-du-bourget.com/evenement/le-cirque-des-etoiles-le-bourget-du-lac/
LOCATION:Le Bourget-du-Lac\, Le Bourget-du-Lac\, 73370\, France
CATEGORIES:Spectacle
ATTACH;FMTTYPE=image/jpeg:https://www.lac-du-bourget.com/wp-content/uploads/2022/11/cirque-des-etoiles-spectacle-le-bourget-du-lac-1.jpg
END:VEVENT
BEGIN:VEVENT
DTSTART;VALUE=DATE:20221006
DTEND;VALUE=DATE:20221010
DTSTAMP:20260419T171143
CREATED:20221003T080808Z
LAST-MODIFIED:20221003T080808Z
UID:11826-1665014400-1665359999@www.lac-du-bourget.com
SUMMARY:Cirque Arlette Gruss à Aix-les-Bains
DESCRIPTION:« Extravagant »\, le nouveau spectacle d’Arlette Gruss\, prend ses quartiers sur l’Esplanade du lac à Aix-les-Bains. \nDATES ET HORAIRES\nJeudi 06 Octobre 2022 19:30\nVendredi. 07 Octobre 2022 19:30\nSamedi 08 Octobre 2022 14:00\nSamedi 08 Octobre 2022 17:00\nSamedi 08 Octobre 2022 20:00\nDimanche 09 Octobre 2022 10:00\nDimanche 09 Octobre 2022 14:00\nDimanche 09 Octobre 2022 17:00 \n  \nPROGRAMME\n\nLa troupe extravagante présente «le manège déjanté»\nEquilibre et contorsion\, Désiré Cardinali Chaves «Les courbes de l’élégance»\nGregory Bellini «C’est reparti pour un tour !»\nGroupe de Lamas\, Sarah Houcke «Voyage en Amérique du Sud»\nJonglerie collective\, le Duo Supka & Co «Une autre dimension de la jonglerie»\nLe lapin canon\, Gregory Bellini\, «Le canon…façon boulet».\nCorde aérienne\, Anna Demeter «A en faire chavire le coeur»\nLes jeux icariens\, Alexis & Eros Gruss\, «Virevoltant de la tête aux pieds»\nAndré «Déroulez le tapis rouge !»\nRussian Cradle\, le Duo LYD «L’exploit à portée de main»\nMaïlys Loyal\, Kevin Sagau & et les danseurs «C’est déjà l’entracte»\nMaïlys Loyal\, Kevin Sagau & et les danseurs «Ils donnent le LA»\nDouble fil\, Geoffrey Berhault\, «Ça ne tient qu’à deux fils»\nAndré «Prêt\, feu\, riez!»\nTissu aérien\, Julia Friedrich & Kevin Gruss «De l’amour dans l’air»\nLa cavalerie\, Linda\, Alexis & Laura-Maria Gruss «Une histoire d’excellence»\nUn oeuf pas d’oeuf\, Gregory Bellini «Les oeufs ?! Un tour brouillé»\nMains à mains\, le Duo Eyal & Julia «Plus parfait que la perfection»\nPlanche coréenne\, la compensa Havana\, Alexis & Eros Gruss\, Jonnathan\, Laura\, Uber\, Darien\, Liam «Le point de bascule du spectacle»\nGregory Bellini & André «Fini ou pas fini ?»\nLa troupe Arlette Gruss vous offre son grand final «ExtravaDANSE!»\n\n  \nLIEU\nEsplanade du lac à Aix-les-Bains
URL:https://www.lac-du-bourget.com/evenement/cirque-arlette-gruss-a-aix-les-bains/
LOCATION:Aix-les-Bains\, Aix-les-Bains\, 73100
CATEGORIES:Spectacle
ATTACH;FMTTYPE=image/jpeg:https://www.lac-du-bourget.com/wp-content/uploads/2022/10/Cirque-Arlette-Gruss-Aix-les-Bains-2022.jpg
END:VEVENT
END:VCALENDAR