BEGIN:VCALENDAR
VERSION:2.0
PRODID:-//Lac du Bourget - ECPv6.15.20//NONSGML v1.0//EN
CALSCALE:GREGORIAN
METHOD:PUBLISH
X-ORIGINAL-URL:https://www.lac-du-bourget.com
X-WR-CALDESC:Évènements pour Lac du Bourget
REFRESH-INTERVAL;VALUE=DURATION:PT1H
X-Robots-Tag:noindex
X-PUBLISHED-TTL:PT1H
BEGIN:VTIMEZONE
TZID:Europe/Paris
BEGIN:DAYLIGHT
TZOFFSETFROM:+0100
TZOFFSETTO:+0200
TZNAME:CEST
DTSTART:20250330T010000
END:DAYLIGHT
BEGIN:STANDARD
TZOFFSETFROM:+0200
TZOFFSETTO:+0100
TZNAME:CET
DTSTART:20251026T010000
END:STANDARD
BEGIN:DAYLIGHT
TZOFFSETFROM:+0100
TZOFFSETTO:+0200
TZNAME:CEST
DTSTART:20260329T010000
END:DAYLIGHT
BEGIN:STANDARD
TZOFFSETFROM:+0200
TZOFFSETTO:+0100
TZNAME:CET
DTSTART:20261025T010000
END:STANDARD
BEGIN:DAYLIGHT
TZOFFSETFROM:+0100
TZOFFSETTO:+0200
TZNAME:CEST
DTSTART:20270328T010000
END:DAYLIGHT
BEGIN:STANDARD
TZOFFSETFROM:+0200
TZOFFSETTO:+0100
TZNAME:CET
DTSTART:20271031T010000
END:STANDARD
END:VTIMEZONE
BEGIN:VEVENT
DTSTART;TZID=Europe/Paris:20260411T203000
DTEND;TZID=Europe/Paris:20260411T235959
DTSTAMP:20260426T023520
CREATED:20260302T175055Z
LAST-MODIFIED:20260309T052932Z
UID:16574-1775939400-1775951999@www.lac-du-bourget.com
SUMMARY:Spectacle Crétins des Alpes
DESCRIPTION:Assistez au spectacle « Crétins des Alpes » à la Salle de l’Europe\, Les Nivéoles\, 73340 Aillon-le-Jeune. Écrit par Thomas Caruso Aragona\, ce spectacle humoristique est interprété par Emma Mouquin et Camille Jaunin. L’événement est destiné à tous ceux qui apprécient la comédie et l’humour local. Pour toute information\, contactez le 0638522238.
URL:https://www.lac-du-bourget.com/evenement/spectacle-cretins-des-alpes/
LOCATION:Aillon-le-Jeune\, Aillon-le-Jeune\, 73340\, France
CATEGORIES:Spectacle
ATTACH;FMTTYPE=image/webp:https://www.lac-du-bourget.com/wp-content/uploads/2026/03/spectacle-cretins-des-alpes-aillon-le-jeune-2026-04-1.webp
END:VEVENT
END:VCALENDAR