BEGIN:VCALENDAR
VERSION:2.0
PRODID:-//Lac du Bourget - ECPv6.15.20//NONSGML v1.0//EN
CALSCALE:GREGORIAN
METHOD:PUBLISH
X-WR-CALNAME:Lac du Bourget
X-ORIGINAL-URL:https://www.lac-du-bourget.com
X-WR-CALDESC:Évènements pour Lac du Bourget
REFRESH-INTERVAL;VALUE=DURATION:PT1H
X-Robots-Tag:noindex
X-PUBLISHED-TTL:PT1H
BEGIN:VTIMEZONE
TZID:Europe/Paris
BEGIN:DAYLIGHT
TZOFFSETFROM:+0100
TZOFFSETTO:+0200
TZNAME:CEST
DTSTART:20250330T010000
END:DAYLIGHT
BEGIN:STANDARD
TZOFFSETFROM:+0200
TZOFFSETTO:+0100
TZNAME:CET
DTSTART:20251026T010000
END:STANDARD
BEGIN:DAYLIGHT
TZOFFSETFROM:+0100
TZOFFSETTO:+0200
TZNAME:CEST
DTSTART:20260329T010000
END:DAYLIGHT
BEGIN:STANDARD
TZOFFSETFROM:+0200
TZOFFSETTO:+0100
TZNAME:CET
DTSTART:20261025T010000
END:STANDARD
BEGIN:DAYLIGHT
TZOFFSETFROM:+0100
TZOFFSETTO:+0200
TZNAME:CEST
DTSTART:20270328T010000
END:DAYLIGHT
BEGIN:STANDARD
TZOFFSETFROM:+0200
TZOFFSETTO:+0100
TZNAME:CET
DTSTART:20271031T010000
END:STANDARD
END:VTIMEZONE
BEGIN:VEVENT
DTSTART;TZID=Europe/Paris:20260414T100000
DTEND;TZID=Europe/Paris:20260426T190000
DTSTAMP:20260425T041829
CREATED:20260421T045941Z
LAST-MODIFIED:20260424T050602Z
UID:18698-1776160800-1777230000@www.lac-du-bourget.com
SUMMARY:KiosKaixpo
DESCRIPTION:Au kiosque de l’UCA situé dans le Parc de Verdure d’Aix-les-Bains\, découvrez KiosKaixpo\, une exposition réunissant deux artisanes de la récupération et une artiste peintre. Cbiencommode propose des meubles réactualisés\, Maison Ninette présente des créations textiles upcyclées\, et Marie-Christine Exiga dévoile ses aquarelles délicates. Cet événement est idéal pour les amateurs d’art et de créations uniques.
URL:https://www.lac-du-bourget.com/evenement/kioskaixpo/
LOCATION:Aix-les-Bains\, Aix-les-Bains\, 73100
CATEGORIES:Exposition
ATTACH;FMTTYPE=image/webp:https://www.lac-du-bourget.com/wp-content/uploads/2026/04/kioskaixpo-aix-les-bains-2026-04.webp
END:VEVENT
BEGIN:VEVENT
DTSTART;TZID=Europe/Paris:20260425T100000
DTEND;TZID=Europe/Paris:20260425T180000
DTSTAMP:20260425T041829
CREATED:20260421T050103Z
LAST-MODIFIED:20260424T050627Z
UID:18708-1777111200-1777140000@www.lac-du-bourget.com
SUMMARY:Les gorges du Sierroz s’animent
DESCRIPTION:Les gorges du Sierroz\, situées à Grésy-sur-Aix\, accueillent une journée festive le 25 avril 2026\, de 10h00 à 18h00. Ce rendez-vous animé par l’accordéoniste Fabrice Peluso propose un jeu de piste familial\, des balades en calèche\, ainsi que des démonstrations d’artisanat. Les visiteurs peuvent également découvrir un musée éphémère et participer à des ateliers. L’événement est gratuit et accessible à tous.
URL:https://www.lac-du-bourget.com/evenement/les-gorges-du-sierroz-saniment/
LOCATION:Grésy-sur-Aix
CATEGORIES:Fêtes
ATTACH;FMTTYPE=image/webp:https://www.lac-du-bourget.com/wp-content/uploads/2026/04/les-gorges-du-sierroz-saniment-gresy-sur-aix-2026-04.webp
END:VEVENT
BEGIN:VEVENT
DTSTART;TZID=Europe/Paris:20260516T100000
DTEND;TZID=Europe/Paris:20260516T170000
DTSTAMP:20260425T041829
CREATED:20260423T050654Z
LAST-MODIFIED:20260424T051139Z
UID:18815-1778925600-1778950800@www.lac-du-bourget.com
SUMMARY:Week-end bien-être & solidaire
DESCRIPTION:Le Week-end bien-être & solidaire se déroule à la Salle des fêtes de Mouxy\, 73100 Mouxy\, le 16 et 17 mai 2026. Des séances de bien-être en collectif ou individuel sont proposées\, incluant Shiatsu\, Sophrologie\, et Yoga. Un concert est également prévu le samedi soir\, avec réservation au 06 11 16 12 57. Cet événement est destiné à tous ceux qui souhaitent se ressourcer tout en soutenant une cause solidaire.
URL:https://www.lac-du-bourget.com/evenement/week-end-bien-etre-solidaire/
CATEGORIES:Fêtes
ATTACH;FMTTYPE=image/webp:https://www.lac-du-bourget.com/wp-content/uploads/2026/04/week-end-bien-etre-solidaire-2026-05.webp
END:VEVENT
END:VCALENDAR