BEGIN:VCALENDAR
VERSION:2.0
PRODID:-//Lac du Bourget - ECPv6.15.20//NONSGML v1.0//EN
CALSCALE:GREGORIAN
METHOD:PUBLISH
X-WR-CALNAME:Lac du Bourget
X-ORIGINAL-URL:https://www.lac-du-bourget.com
X-WR-CALDESC:Évènements pour Lac du Bourget
REFRESH-INTERVAL;VALUE=DURATION:PT1H
X-Robots-Tag:noindex
X-PUBLISHED-TTL:PT1H
BEGIN:VTIMEZONE
TZID:Europe/Paris
BEGIN:DAYLIGHT
TZOFFSETFROM:+0100
TZOFFSETTO:+0200
TZNAME:CEST
DTSTART:20250330T010000
END:DAYLIGHT
BEGIN:STANDARD
TZOFFSETFROM:+0200
TZOFFSETTO:+0100
TZNAME:CET
DTSTART:20251026T010000
END:STANDARD
BEGIN:DAYLIGHT
TZOFFSETFROM:+0100
TZOFFSETTO:+0200
TZNAME:CEST
DTSTART:20260329T010000
END:DAYLIGHT
BEGIN:STANDARD
TZOFFSETFROM:+0200
TZOFFSETTO:+0100
TZNAME:CET
DTSTART:20261025T010000
END:STANDARD
BEGIN:DAYLIGHT
TZOFFSETFROM:+0100
TZOFFSETTO:+0200
TZNAME:CEST
DTSTART:20270328T010000
END:DAYLIGHT
BEGIN:STANDARD
TZOFFSETFROM:+0200
TZOFFSETTO:+0100
TZNAME:CET
DTSTART:20271031T010000
END:STANDARD
END:VTIMEZONE
BEGIN:VEVENT
DTSTART;TZID=Europe/Paris:20260306T203000
DTEND;TZID=Europe/Paris:20260306T214500
DTSTAMP:20260421T153353
CREATED:20260303T061641Z
LAST-MODIFIED:20260306T042429Z
UID:16877-1772829000-1772833500@www.lac-du-bourget.com
SUMMARY:Rêverie de Bel-Air / Musique de chambre Concert n°1
DESCRIPTION:Le concert ‘Rêverie de Bel-Air’ se tient à l’Espace Culturel Jean Blanc\, situé Rue de la Concorde à La Ravoire. Les violoniste Eva Zavaro et pianiste Dana Ciocarlie\, entourées de jeunes musiciens\, interprètent des œuvres classiques des pays de l’Est. Ce concert s’adresse à tous les amateurs de musique classique et à ceux qui souhaitent découvrir de nouveaux talents.
URL:https://www.lac-du-bourget.com/evenement/reverie-de-bel-air-musique-de-chambre-concert-n1/
CATEGORIES:Concerts
ATTACH;FMTTYPE=image/webp:https://www.lac-du-bourget.com/wp-content/uploads/2026/03/reverie-de-bel-air-musique-de-chambre-2026-03.webp
END:VEVENT
END:VCALENDAR