BEGIN:VCALENDAR
VERSION:2.0
PRODID:-//Lac du Bourget - ECPv6.15.20//NONSGML v1.0//EN
CALSCALE:GREGORIAN
METHOD:PUBLISH
X-ORIGINAL-URL:https://www.lac-du-bourget.com
X-WR-CALDESC:Évènements pour Lac du Bourget
REFRESH-INTERVAL;VALUE=DURATION:PT1H
X-Robots-Tag:noindex
X-PUBLISHED-TTL:PT1H
BEGIN:VTIMEZONE
TZID:Europe/Paris
BEGIN:DAYLIGHT
TZOFFSETFROM:+0100
TZOFFSETTO:+0200
TZNAME:CEST
DTSTART:20250330T010000
END:DAYLIGHT
BEGIN:STANDARD
TZOFFSETFROM:+0200
TZOFFSETTO:+0100
TZNAME:CET
DTSTART:20251026T010000
END:STANDARD
BEGIN:DAYLIGHT
TZOFFSETFROM:+0100
TZOFFSETTO:+0200
TZNAME:CEST
DTSTART:20260329T010000
END:DAYLIGHT
BEGIN:STANDARD
TZOFFSETFROM:+0200
TZOFFSETTO:+0100
TZNAME:CET
DTSTART:20261025T010000
END:STANDARD
BEGIN:DAYLIGHT
TZOFFSETFROM:+0100
TZOFFSETTO:+0200
TZNAME:CEST
DTSTART:20270328T010000
END:DAYLIGHT
BEGIN:STANDARD
TZOFFSETFROM:+0200
TZOFFSETTO:+0100
TZNAME:CET
DTSTART:20271031T010000
END:STANDARD
END:VTIMEZONE
BEGIN:VEVENT
DTSTART;TZID=Europe/Paris:20260517T110000
DTEND;TZID=Europe/Paris:20260517T120000
DTSTAMP:20260426T061209
CREATED:20260425T045303Z
LAST-MODIFIED:20260425T045309Z
UID:18907-1779015600-1779019200@www.lac-du-bourget.com
SUMMARY:Trio GUERSAN\, musique classique
DESCRIPTION:Le Trio GUERSAN se produit à la Chapelle de Brison-les-Oliviers\, située au 28 chemin de la Chapelle à Brison-Saint-Innocent. Le concert\, intitulé ‘Filiation’\, rend hommage à Haydn et présente des œuvres de J. Haydn\, J.G Albrechtsberger\, J.N Hummel et L. van Beethoven. Ce concert est accessible aux adultes et aux enfants\, avec une gratuité pour les moins de 15 ans.
URL:https://www.lac-du-bourget.com/evenement/trio-guersan-musique-classique/
LOCATION:Brison-Saint-Innocent\, Brison-Saint-Innocent\, 73100\, France
CATEGORIES:Concerts
ATTACH;FMTTYPE=image/webp:https://www.lac-du-bourget.com/wp-content/uploads/2026/04/trio-guersan-musique-classique-brison-saint-innocent-2026-05.webp
END:VEVENT
END:VCALENDAR