BEGIN:VCALENDAR
VERSION:2.0
PRODID:-//Lac du Bourget - ECPv6.15.20//NONSGML v1.0//EN
CALSCALE:GREGORIAN
METHOD:PUBLISH
X-ORIGINAL-URL:https://www.lac-du-bourget.com
X-WR-CALDESC:Évènements pour Lac du Bourget
REFRESH-INTERVAL;VALUE=DURATION:PT1H
X-Robots-Tag:noindex
X-PUBLISHED-TTL:PT1H
BEGIN:VTIMEZONE
TZID:Europe/Paris
BEGIN:DAYLIGHT
TZOFFSETFROM:+0100
TZOFFSETTO:+0200
TZNAME:CEST
DTSTART:20250330T010000
END:DAYLIGHT
BEGIN:STANDARD
TZOFFSETFROM:+0200
TZOFFSETTO:+0100
TZNAME:CET
DTSTART:20251026T010000
END:STANDARD
BEGIN:DAYLIGHT
TZOFFSETFROM:+0100
TZOFFSETTO:+0200
TZNAME:CEST
DTSTART:20260329T010000
END:DAYLIGHT
BEGIN:STANDARD
TZOFFSETFROM:+0200
TZOFFSETTO:+0100
TZNAME:CET
DTSTART:20261025T010000
END:STANDARD
BEGIN:DAYLIGHT
TZOFFSETFROM:+0100
TZOFFSETTO:+0200
TZNAME:CEST
DTSTART:20270328T010000
END:DAYLIGHT
BEGIN:STANDARD
TZOFFSETFROM:+0200
TZOFFSETTO:+0100
TZNAME:CET
DTSTART:20271031T010000
END:STANDARD
END:VTIMEZONE
BEGIN:VEVENT
DTSTART;TZID=Europe/Paris:20260516T203000
DTEND;TZID=Europe/Paris:20260516T221500
DTSTAMP:20260419T141640
CREATED:20260316T045042Z
LAST-MODIFIED:20260416T050254Z
UID:17700-1778963400-1778969700@www.lac-du-bourget.com
SUMMARY:La Veuve Rusée
DESCRIPTION:La Veuve Rusée\, une pièce de Carlo Goldoni\, se joue au Théâtre du Casino Grand Cercle\, situé au 200 rue du Casino à Aix-les-Bains. Cette comédie met en scène Rosaura\, une veuve courtisée par quatre prétendants. Le spectacle\, qui promet des moments comiques et touchants\, est dirigé par Giancarlo Marinelli. Public conseillé : amateurs de théâtre et de comédie.
URL:https://www.lac-du-bourget.com/evenement/la-veuve-rusee/
LOCATION:Aix-les-Bains\, Aix-les-Bains\, 73100
CATEGORIES:Spectacle
ATTACH;FMTTYPE=image/webp:https://www.lac-du-bourget.com/wp-content/uploads/2026/03/la-veuve-rusee-aix-les-bains-2026-05.webp
END:VEVENT
END:VCALENDAR