BEGIN:VCALENDAR
VERSION:2.0
PRODID:-//Lac du Bourget - ECPv6.15.20//NONSGML v1.0//EN
CALSCALE:GREGORIAN
METHOD:PUBLISH
X-ORIGINAL-URL:https://www.lac-du-bourget.com
X-WR-CALDESC:Évènements pour Lac du Bourget
REFRESH-INTERVAL;VALUE=DURATION:PT1H
X-Robots-Tag:noindex
X-PUBLISHED-TTL:PT1H
BEGIN:VTIMEZONE
TZID:Europe/Paris
BEGIN:DAYLIGHT
TZOFFSETFROM:+0100
TZOFFSETTO:+0200
TZNAME:CEST
DTSTART:20240331T010000
END:DAYLIGHT
BEGIN:STANDARD
TZOFFSETFROM:+0200
TZOFFSETTO:+0100
TZNAME:CET
DTSTART:20241027T010000
END:STANDARD
BEGIN:DAYLIGHT
TZOFFSETFROM:+0100
TZOFFSETTO:+0200
TZNAME:CEST
DTSTART:20250330T010000
END:DAYLIGHT
BEGIN:STANDARD
TZOFFSETFROM:+0200
TZOFFSETTO:+0100
TZNAME:CET
DTSTART:20251026T010000
END:STANDARD
BEGIN:DAYLIGHT
TZOFFSETFROM:+0100
TZOFFSETTO:+0200
TZNAME:CEST
DTSTART:20260329T010000
END:DAYLIGHT
BEGIN:STANDARD
TZOFFSETFROM:+0200
TZOFFSETTO:+0100
TZNAME:CET
DTSTART:20261025T010000
END:STANDARD
BEGIN:DAYLIGHT
TZOFFSETFROM:+0100
TZOFFSETTO:+0200
TZNAME:CEST
DTSTART:20270328T010000
END:DAYLIGHT
BEGIN:STANDARD
TZOFFSETFROM:+0200
TZOFFSETTO:+0100
TZNAME:CET
DTSTART:20271031T010000
END:STANDARD
END:VTIMEZONE
BEGIN:VEVENT
DTSTART;TZID=Europe/Paris:20250920T100000
DTEND;TZID=Europe/Paris:20260704T180000
DTSTAMP:20260422T135422
CREATED:20260331T053154Z
LAST-MODIFIED:20260402T132257Z
UID:18009-1758362400-1783188000@www.lac-du-bourget.com
SUMMARY:Exposition : Jour sur la nuit
DESCRIPTION:L’exposition ‘Jour sur la nuit’ se déroule à la Galerie Eurêka\, située au 150 rue de la République\, Carré Curial à Chambéry. Elle invite les visiteurs à redécouvrir le monde fascinant de la nuit à travers un parcours immersif. Pour plus d’informations\, contactez le 04 79 60 04 25. Cet événement est accessible à tous.
URL:https://www.lac-du-bourget.com/evenement/exposition-jour-sur-la-nuit/
LOCATION:Chambéry\, Chambéry\, 73000\, France
CATEGORIES:Exposition
ATTACH;FMTTYPE=image/webp:https://www.lac-du-bourget.com/wp-content/uploads/2026/03/exposition-jour-sur-la-nuit-chambery-2025-09.webp
END:VEVENT
BEGIN:VEVENT
DTSTART;TZID=Europe/Paris:20260207T143000
DTEND;TZID=Europe/Paris:20260705T235959
DTSTAMP:20260422T135422
CREATED:20260331T053734Z
LAST-MODIFIED:20260402T130310Z
UID:18051-1770474600-1783295999@www.lac-du-bourget.com
SUMMARY:Visite guidée - La Rotonde Ferroviaire
DESCRIPTION:Découvrez la Rotonde Ferroviaire à Chambéry\, un chef-d’œuvre du début du XXe siècle. La visite est guidée et dure environ 1h15\, idéale pour les passionnés d’histoire. Réservation obligatoire auprès de l’Office de Tourisme. Les enfants de moins de 8 ans ne sont pas admis.
URL:https://www.lac-du-bourget.com/evenement/visite-guidee-la-rotonde-ferroviaire/
LOCATION:Chambéry\, Chambéry\, 73000\, France
CATEGORIES:Visite
ATTACH;FMTTYPE=image/webp:https://www.lac-du-bourget.com/wp-content/uploads/2026/03/visite-guidee-la-rotonde-ferroviaire-chambery-2026-02-1.webp
END:VEVENT
BEGIN:VEVENT
DTSTART;TZID=Europe/Paris:20260523T143000
DTEND;TZID=Europe/Paris:20260523T235959
DTSTAMP:20260422T135422
CREATED:20260420T052303Z
LAST-MODIFIED:20260420T062619Z
UID:18658-1779546600-1779580799@www.lac-du-bourget.com
SUMMARY:Visite guidée : Cyclo-balade du patrimoine
DESCRIPTION:Participez à une cyclo-balade guidée à Aix-les-Bains\, au départ de l’Office de tourisme. Cette activité est réservée aux adultes sachant faire du vélo à assistance électrique (VAE). Le guide vous fera découvrir les transformations de la ville et les rives du lac. Inscription obligatoire au 04 79 88 68 00.
URL:https://www.lac-du-bourget.com/evenement/visite-guidee-cyclo-balade-du-patrimoine/
LOCATION:Aix-les-Bains\, Aix-les-Bains\, 73100
CATEGORIES:Visite
ATTACH;FMTTYPE=image/webp:https://www.lac-du-bourget.com/wp-content/uploads/2026/04/visite-guidee-cyclo-balade-du-patrimoi-aix-les-bains-2026-05.webp
END:VEVENT
BEGIN:VEVENT
DTSTART;TZID=Europe/Paris:20260523T200000
DTEND;TZID=Europe/Paris:20260523T223000
DTSTAMP:20260422T135422
CREATED:20260316T045056Z
LAST-MODIFIED:20260420T062628Z
UID:17703-1779566400-1779575400@www.lac-du-bourget.com
SUMMARY:LA NUIT DES MUSEES à Aqualis
DESCRIPTION:Venez découvrir le lac du Bourget lors de la Nuit des musées à Aqualis\, situé au 52 esplanade Jean Murguet\, Aix-les-Bains. Cet événement est ouvert à tous\, et vous aurez besoin d’un téléphone mobile pour participer à l’enquête nocturne. Pour toute information\, vous pouvez contacter le 04 79 70 64 69.
URL:https://www.lac-du-bourget.com/evenement/la-nuit-des-musees-a-aqualis/
LOCATION:Aix-les-Bains\, Aix-les-Bains\, 73100
CATEGORIES:Visite
ATTACH;FMTTYPE=image/webp:https://www.lac-du-bourget.com/wp-content/uploads/2026/03/la-nuit-des-musees-a-aqualis-aix-les-bains-2026-05.webp
END:VEVENT
BEGIN:VEVENT
DTSTART;TZID=Europe/Paris:20260530T140000
DTEND;TZID=Europe/Paris:20260530T160000
DTSTAMP:20260422T135422
CREATED:20260406T045500Z
LAST-MODIFIED:20260420T062730Z
UID:18261-1780149600-1780156800@www.lac-du-bourget.com
SUMMARY:Un monde fascinant à découvrir : la rivière
DESCRIPTION:Venez explorer la rivière à Montcel\, où vous découvrirez son parcours et la vie qui l’entoure. L’événement est une sortie gratuite sur inscription\, idéale pour les familles. Pensez à apporter des vêtements adaptés pour profiter pleinement de cette expérience en pleine nature.
URL:https://www.lac-du-bourget.com/evenement/un-monde-fascinant-a-decouvrir-la-riviere/
CATEGORIES:Atelier
ATTACH;FMTTYPE=image/webp:https://www.lac-du-bourget.com/wp-content/uploads/2026/04/un-monde-fascinant-a-decouvrir-la-rivi-2026-05.webp
END:VEVENT
BEGIN:VEVENT
DTSTART;VALUE=DATE:20260607
DTEND;VALUE=DATE:20260608
DTSTAMP:20260422T135422
CREATED:20260413T052446Z
LAST-MODIFIED:20260413T062652Z
UID:18479-1780790400-1780876799@www.lac-du-bourget.com
SUMMARY:Faites du Nautisme - Le Bourget du Lac
DESCRIPTION:Venez découvrir le plaisir des activités nautiques lors de la fête du nautisme au Bourget-du-Lac. Situé à Le Bourget-du-Lac\, cet événement propose des baptêmes\, initiations et démonstrations dans des disciplines telles que la voile\, le ski nautique\, et le canoë kayak. Accessible à tous\, cet événement gratuit s’adresse à tous les publics\, petits et grands.
URL:https://www.lac-du-bourget.com/evenement/faites-du-nautisme-le-bourget-du-lac/
LOCATION:Le Bourget-du-Lac\, Le Bourget-du-Lac\, 73370\, France
CATEGORIES:Fêtes
ATTACH;FMTTYPE=image/webp:https://www.lac-du-bourget.com/wp-content/uploads/2026/04/faites-du-nautisme-le-bourget-du-lac-le-bourget-du-lac-2026-06.webp
END:VEVENT
END:VCALENDAR