BEGIN:VCALENDAR
VERSION:2.0
PRODID:-//Lac du Bourget - ECPv6.15.20//NONSGML v1.0//EN
CALSCALE:GREGORIAN
METHOD:PUBLISH
X-WR-CALNAME:Lac du Bourget
X-ORIGINAL-URL:https://www.lac-du-bourget.com
X-WR-CALDESC:Évènements pour Lac du Bourget
REFRESH-INTERVAL;VALUE=DURATION:PT1H
X-Robots-Tag:noindex
X-PUBLISHED-TTL:PT1H
BEGIN:VTIMEZONE
TZID:Europe/Paris
BEGIN:DAYLIGHT
TZOFFSETFROM:+0100
TZOFFSETTO:+0200
TZNAME:CEST
DTSTART:20250330T010000
END:DAYLIGHT
BEGIN:STANDARD
TZOFFSETFROM:+0200
TZOFFSETTO:+0100
TZNAME:CET
DTSTART:20251026T010000
END:STANDARD
BEGIN:DAYLIGHT
TZOFFSETFROM:+0100
TZOFFSETTO:+0200
TZNAME:CEST
DTSTART:20260329T010000
END:DAYLIGHT
BEGIN:STANDARD
TZOFFSETFROM:+0200
TZOFFSETTO:+0100
TZNAME:CET
DTSTART:20261025T010000
END:STANDARD
BEGIN:DAYLIGHT
TZOFFSETFROM:+0100
TZOFFSETTO:+0200
TZNAME:CEST
DTSTART:20270328T010000
END:DAYLIGHT
BEGIN:STANDARD
TZOFFSETFROM:+0200
TZOFFSETTO:+0100
TZNAME:CET
DTSTART:20271031T010000
END:STANDARD
END:VTIMEZONE
BEGIN:VEVENT
DTSTART;TZID=Europe/Paris:20260313T190000
DTEND;TZID=Europe/Paris:20260313T204500
DTSTAMP:20260426T043133
CREATED:20260310T042808Z
LAST-MODIFIED:20260313T042024Z
UID:17421-1773428400-1773434700@www.lac-du-bourget.com
SUMMARY:1978\, confidences gesticulées
DESCRIPTION:Le spectacle ‘1978\, confidences gesticulées’ se déroule à la Maison des Arts et de la Jeunesse\, située au 4 rue Vaugelas à Aix-les-Bains. Ce spectacle\, destiné aux personnes à partir de 15 ans\, propose une discussion captivante autour de l’économiste Milton Friedman. Pour toute réservation ou information\, vous pouvez contacter le 04 79 35 24 35.
URL:https://www.lac-du-bourget.com/evenement/1978-confidences-gesticulees/
LOCATION:Aix-les-Bains\, Aix-les-Bains\, 73100
CATEGORIES:Spectacle
ATTACH;FMTTYPE=image/webp:https://www.lac-du-bourget.com/wp-content/uploads/2026/03/1978-confidences-gesticulees-aix-les-bains-2026-03.webp
END:VEVENT
END:VCALENDAR