BEGIN:VCALENDAR
VERSION:2.0
PRODID:-//Lac du Bourget - ECPv6.15.20//NONSGML v1.0//EN
CALSCALE:GREGORIAN
METHOD:PUBLISH
X-WR-CALNAME:Lac du Bourget
X-ORIGINAL-URL:https://www.lac-du-bourget.com
X-WR-CALDESC:Évènements pour Lac du Bourget
REFRESH-INTERVAL;VALUE=DURATION:PT1H
X-Robots-Tag:noindex
X-PUBLISHED-TTL:PT1H
BEGIN:VTIMEZONE
TZID:Europe/Paris
BEGIN:DAYLIGHT
TZOFFSETFROM:+0100
TZOFFSETTO:+0200
TZNAME:CEST
DTSTART:20250330T010000
END:DAYLIGHT
BEGIN:STANDARD
TZOFFSETFROM:+0200
TZOFFSETTO:+0100
TZNAME:CET
DTSTART:20251026T010000
END:STANDARD
BEGIN:DAYLIGHT
TZOFFSETFROM:+0100
TZOFFSETTO:+0200
TZNAME:CEST
DTSTART:20260329T010000
END:DAYLIGHT
BEGIN:STANDARD
TZOFFSETFROM:+0200
TZOFFSETTO:+0100
TZNAME:CET
DTSTART:20261025T010000
END:STANDARD
BEGIN:DAYLIGHT
TZOFFSETFROM:+0100
TZOFFSETTO:+0200
TZNAME:CEST
DTSTART:20270328T010000
END:DAYLIGHT
BEGIN:STANDARD
TZOFFSETFROM:+0200
TZOFFSETTO:+0100
TZNAME:CET
DTSTART:20271031T010000
END:STANDARD
BEGIN:DAYLIGHT
TZOFFSETFROM:+0100
TZOFFSETTO:+0200
TZNAME:CEST
DTSTART:20280326T010000
END:DAYLIGHT
BEGIN:STANDARD
TZOFFSETFROM:+0200
TZOFFSETTO:+0100
TZNAME:CET
DTSTART:20281029T010000
END:STANDARD
END:VTIMEZONE
BEGIN:VEVENT
DTSTART;TZID=Europe/Paris:20260101T113000
DTEND;TZID=Europe/Paris:20270101T143000
DTSTAMP:20260425T134956
CREATED:20260331T044447Z
LAST-MODIFIED:20260331T044451Z
UID:17989-1767267000-1798813800@www.lac-du-bourget.com
SUMMARY:Brunch au Restaurant Biõz
DESCRIPTION:Tous les dimanches\, de 11h30 à 14h30\, le Restaurant Biõz\, situé au Domaine de Marlioz à Aix-les-Bains\, vous offre un brunch convivial avec un buffet sucré et salé. Ce moment gourmand est parfait pour les familles\, les couples ou les amis. Pour toute réservation ou information\, contactez le 04 79 61 79 20.
URL:https://www.lac-du-bourget.com/evenement/brunch-au-restaurant-bioz/
LOCATION:Aix-les-Bains\, Aix-les-Bains\, 73100
ATTACH;FMTTYPE=image/webp:https://www.lac-du-bourget.com/wp-content/uploads/2026/03/brunch-au-restaurant-bioz-aix-les-bains-2026-01.webp
END:VEVENT
BEGIN:VEVENT
DTSTART;TZID=Europe/Paris:20260528T160000
DTEND;TZID=Europe/Paris:20261031T200000
DTSTAMP:20260425T134956
CREATED:20260316T045136Z
LAST-MODIFIED:20260420T062716Z
UID:17712-1779984000-1793476800@www.lac-du-bourget.com
SUMMARY:Marché de producteurs
DESCRIPTION:Venez nombreux découvrir les richesses de la production locale à Drumettaz-Clarafond\, place de l’église. Ce marché propose une variété de produits comme des légumes\, des fraises\, des fromages\, des escargots\, des bières et des miels. L’événement est ouvert à tous\, sans réservation nécessaire.
URL:https://www.lac-du-bourget.com/evenement/marche-de-producteurs/
LOCATION:Drumettaz-Clarafond\, Drumettaz-Clarafond\, 73420\, France
CATEGORIES:Marché
ATTACH;FMTTYPE=image/webp:https://www.lac-du-bourget.com/wp-content/uploads/2026/03/marche-de-producteurs-drumettaz-clarafond-2026-05.webp
END:VEVENT
END:VCALENDAR