BEGIN:VCALENDAR
VERSION:2.0
PRODID:-//Lac du Bourget - ECPv6.15.20//NONSGML v1.0//EN
CALSCALE:GREGORIAN
METHOD:PUBLISH
X-WR-CALNAME:Lac du Bourget
X-ORIGINAL-URL:https://www.lac-du-bourget.com
X-WR-CALDESC:Évènements pour Lac du Bourget
REFRESH-INTERVAL;VALUE=DURATION:PT1H
X-Robots-Tag:noindex
X-PUBLISHED-TTL:PT1H
BEGIN:VTIMEZONE
TZID:Europe/Paris
BEGIN:DAYLIGHT
TZOFFSETFROM:+0100
TZOFFSETTO:+0200
TZNAME:CEST
DTSTART:20250330T010000
END:DAYLIGHT
BEGIN:STANDARD
TZOFFSETFROM:+0200
TZOFFSETTO:+0100
TZNAME:CET
DTSTART:20251026T010000
END:STANDARD
BEGIN:DAYLIGHT
TZOFFSETFROM:+0100
TZOFFSETTO:+0200
TZNAME:CEST
DTSTART:20260329T010000
END:DAYLIGHT
BEGIN:STANDARD
TZOFFSETFROM:+0200
TZOFFSETTO:+0100
TZNAME:CET
DTSTART:20261025T010000
END:STANDARD
BEGIN:DAYLIGHT
TZOFFSETFROM:+0100
TZOFFSETTO:+0200
TZNAME:CEST
DTSTART:20270328T010000
END:DAYLIGHT
BEGIN:STANDARD
TZOFFSETFROM:+0200
TZOFFSETTO:+0100
TZNAME:CET
DTSTART:20271031T010000
END:STANDARD
END:VTIMEZONE
BEGIN:VEVENT
DTSTART;TZID=Europe/Paris:20260307T143000
DTEND;TZID=Europe/Paris:20260307T204100
DTSTAMP:20260420T030108
CREATED:20260307T042010Z
LAST-MODIFIED:20260307T042010Z
UID:17224-1772893800-1772916060@www.lac-du-bourget.com
SUMMARY:Cinéma : Fantastique
DESCRIPTION:Le Cinéma : Fantastique à Chambéry propose un film inspirant sur Fanta\, une contorsionniste de 14 ans originaire de Guinée\, qui rêve de rejoindre le cirque acrobatique Amoukanama. Une séance spéciale aura lieu le 7 mars 2026\, avec la présence de la réalisatrice et d’accrobates. Pour les réservations\, contactez le 04 79 85 55 43.
URL:https://www.lac-du-bourget.com/evenement/cinema-fantastique-4/
LOCATION:Chambéry\, Chambéry\, 73000\, France
END:VEVENT
END:VCALENDAR