BEGIN:VCALENDAR
VERSION:2.0
PRODID:-//Lac du Bourget - ECPv6.15.20//NONSGML v1.0//EN
CALSCALE:GREGORIAN
METHOD:PUBLISH
X-WR-CALNAME:Lac du Bourget
X-ORIGINAL-URL:https://www.lac-du-bourget.com
X-WR-CALDESC:Évènements pour Lac du Bourget
REFRESH-INTERVAL;VALUE=DURATION:PT1H
X-Robots-Tag:noindex
X-PUBLISHED-TTL:PT1H
BEGIN:VTIMEZONE
TZID:Europe/Paris
BEGIN:DAYLIGHT
TZOFFSETFROM:+0100
TZOFFSETTO:+0200
TZNAME:CEST
DTSTART:20250330T010000
END:DAYLIGHT
BEGIN:STANDARD
TZOFFSETFROM:+0200
TZOFFSETTO:+0100
TZNAME:CET
DTSTART:20251026T010000
END:STANDARD
BEGIN:DAYLIGHT
TZOFFSETFROM:+0100
TZOFFSETTO:+0200
TZNAME:CEST
DTSTART:20260329T010000
END:DAYLIGHT
BEGIN:STANDARD
TZOFFSETFROM:+0200
TZOFFSETTO:+0100
TZNAME:CET
DTSTART:20261025T010000
END:STANDARD
BEGIN:DAYLIGHT
TZOFFSETFROM:+0100
TZOFFSETTO:+0200
TZNAME:CEST
DTSTART:20270328T010000
END:DAYLIGHT
BEGIN:STANDARD
TZOFFSETFROM:+0200
TZOFFSETTO:+0100
TZNAME:CET
DTSTART:20271031T010000
END:STANDARD
END:VTIMEZONE
BEGIN:VEVENT
DTSTART;TZID=Europe/Paris:20260510T163000
DTEND;TZID=Europe/Paris:20260510T235959
DTSTAMP:20260426T022432
CREATED:20260417T050210Z
LAST-MODIFIED:20260425T045146Z
UID:18614-1778430600-1778457599@www.lac-du-bourget.com
SUMMARY:Visite guidée : Les Gorges du Sierroz
DESCRIPTION:Participez à une visite guidée des Gorges du Sierroz à Grésy-sur-Aix\, un site naturel fascinant. Ce parcours d’une heure vous permet de découvrir l’histoire de ce lieu emblématique\, ainsi que des légendes locales. Réservation nécessaire au 04 79 88 68 00 pour garantir votre place.
URL:https://www.lac-du-bourget.com/evenement/visite-guidee-les-gorges-du-sierroz/
LOCATION:Grésy-sur-Aix
CATEGORIES:Visite
ATTACH;FMTTYPE=image/webp:https://www.lac-du-bourget.com/wp-content/uploads/2026/04/visite-guidee-les-gorges-du-sierroz-gresy-sur-aix-2026-05-1.webp
END:VEVENT
END:VCALENDAR