BEGIN:VCALENDAR
VERSION:2.0
PRODID:-//Lac du Bourget - ECPv6.15.20//NONSGML v1.0//EN
CALSCALE:GREGORIAN
METHOD:PUBLISH
X-WR-CALNAME:Lac du Bourget
X-ORIGINAL-URL:https://www.lac-du-bourget.com
X-WR-CALDESC:Évènements pour Lac du Bourget
REFRESH-INTERVAL;VALUE=DURATION:PT1H
X-Robots-Tag:noindex
X-PUBLISHED-TTL:PT1H
BEGIN:VTIMEZONE
TZID:Europe/Paris
BEGIN:DAYLIGHT
TZOFFSETFROM:+0100
TZOFFSETTO:+0200
TZNAME:CEST
DTSTART:20250330T010000
END:DAYLIGHT
BEGIN:STANDARD
TZOFFSETFROM:+0200
TZOFFSETTO:+0100
TZNAME:CET
DTSTART:20251026T010000
END:STANDARD
BEGIN:DAYLIGHT
TZOFFSETFROM:+0100
TZOFFSETTO:+0200
TZNAME:CEST
DTSTART:20260329T010000
END:DAYLIGHT
BEGIN:STANDARD
TZOFFSETFROM:+0200
TZOFFSETTO:+0100
TZNAME:CET
DTSTART:20261025T010000
END:STANDARD
BEGIN:DAYLIGHT
TZOFFSETFROM:+0100
TZOFFSETTO:+0200
TZNAME:CEST
DTSTART:20270328T010000
END:DAYLIGHT
BEGIN:STANDARD
TZOFFSETFROM:+0200
TZOFFSETTO:+0100
TZNAME:CET
DTSTART:20271031T010000
END:STANDARD
END:VTIMEZONE
BEGIN:VEVENT
DTSTART;VALUE=DATE:20260422
DTEND;VALUE=DATE:20260423
DTSTAMP:20260425T174102
CREATED:20260422T051922Z
LAST-MODIFIED:20260422T051926Z
UID:18759-1776816000-1776902399@www.lac-du-bourget.com
SUMMARY:L'Alchimiste - un voyage musical sous les étoiles
DESCRIPTION:À Aix-les-Bains\, assistez à un concert intimiste éclairé à la bougie\, inspiré du roman L’Alchimiste de Paulo Coelho. La pianiste Claire Damour\, le chanteur Mardoché Nelson\, la lectrice Charlotte Bauduin et le violoncelliste Diego Coutinho vous embarquent dans un voyage musical entre émotions et réflexions. Ce spectacle\, d’une durée d’environ 1h30\, s’adresse à tous les amoureux de la musique et des belles histoires.
URL:https://www.lac-du-bourget.com/evenement/l-alchimiste-un-voyage-musical-sous-les-etoiles-3/
LOCATION:Aix-les-Bains\, Aix-les-Bains\, 73100
CATEGORIES:Concerts
ATTACH;FMTTYPE=image/webp:https://www.lac-du-bourget.com/wp-content/uploads/2026/04/lalchimiste-un-voyage-musical-sous-le-aix-les-bains-2026-04-1.webp
END:VEVENT
END:VCALENDAR