BEGIN:VCALENDAR
VERSION:2.0
PRODID:-//Lac du Bourget - ECPv6.15.20//NONSGML v1.0//EN
CALSCALE:GREGORIAN
METHOD:PUBLISH
X-ORIGINAL-URL:https://www.lac-du-bourget.com
X-WR-CALDESC:Évènements pour Lac du Bourget
REFRESH-INTERVAL;VALUE=DURATION:PT1H
X-Robots-Tag:noindex
X-PUBLISHED-TTL:PT1H
BEGIN:VTIMEZONE
TZID:Europe/Paris
BEGIN:DAYLIGHT
TZOFFSETFROM:+0100
TZOFFSETTO:+0200
TZNAME:CEST
DTSTART:20250330T010000
END:DAYLIGHT
BEGIN:STANDARD
TZOFFSETFROM:+0200
TZOFFSETTO:+0100
TZNAME:CET
DTSTART:20251026T010000
END:STANDARD
BEGIN:DAYLIGHT
TZOFFSETFROM:+0100
TZOFFSETTO:+0200
TZNAME:CEST
DTSTART:20260329T010000
END:DAYLIGHT
BEGIN:STANDARD
TZOFFSETFROM:+0200
TZOFFSETTO:+0100
TZNAME:CET
DTSTART:20261025T010000
END:STANDARD
BEGIN:DAYLIGHT
TZOFFSETFROM:+0100
TZOFFSETTO:+0200
TZNAME:CEST
DTSTART:20270328T010000
END:DAYLIGHT
BEGIN:STANDARD
TZOFFSETFROM:+0200
TZOFFSETTO:+0100
TZNAME:CET
DTSTART:20271031T010000
END:STANDARD
END:VTIMEZONE
BEGIN:VEVENT
DTSTART;VALUE=DATE:20260423
DTEND;VALUE=DATE:20260424
DTSTAMP:20260425T174321
CREATED:20260423T050457Z
LAST-MODIFIED:20260423T050503Z
UID:18803-1776902400-1776988799@www.lac-du-bourget.com
SUMMARY:L'Alchimiste - un voyage musical sous les étoiles
DESCRIPTION:Le concert ‘L’Alchimiste’ se déroule à Aix-les-Bains\, où une pianiste\, un chanteur\, une lectrice et un violoncelliste vous invitent à un moment intimiste sous les étoiles. Ce spectacle\, d’une durée d’1h30\, est destiné à tous\, petits et grands\, et explore les thèmes de l’aventure et de la découverte. Réservation conseillée pour profiter de cette expérience unique.
URL:https://www.lac-du-bourget.com/evenement/l-alchimiste-un-voyage-musical-sous-les-etoiles-4/
LOCATION:Aix-les-Bains\, Aix-les-Bains\, 73100
CATEGORIES:Concerts
ATTACH;FMTTYPE=image/webp:https://www.lac-du-bourget.com/wp-content/uploads/2026/04/lalchimiste-un-voyage-musical-sous-le-aix-les-bains-2026-04-2.webp
END:VEVENT
END:VCALENDAR