BEGIN:VCALENDAR
VERSION:2.0
PRODID:-//Lac du Bourget - ECPv6.15.20//NONSGML v1.0//EN
CALSCALE:GREGORIAN
METHOD:PUBLISH
X-ORIGINAL-URL:https://www.lac-du-bourget.com
X-WR-CALDESC:Évènements pour Lac du Bourget
REFRESH-INTERVAL;VALUE=DURATION:PT1H
X-Robots-Tag:noindex
X-PUBLISHED-TTL:PT1H
BEGIN:VTIMEZONE
TZID:Europe/Paris
BEGIN:DAYLIGHT
TZOFFSETFROM:+0100
TZOFFSETTO:+0200
TZNAME:CEST
DTSTART:20250330T010000
END:DAYLIGHT
BEGIN:STANDARD
TZOFFSETFROM:+0200
TZOFFSETTO:+0100
TZNAME:CET
DTSTART:20251026T010000
END:STANDARD
BEGIN:DAYLIGHT
TZOFFSETFROM:+0100
TZOFFSETTO:+0200
TZNAME:CEST
DTSTART:20260329T010000
END:DAYLIGHT
BEGIN:STANDARD
TZOFFSETFROM:+0200
TZOFFSETTO:+0100
TZNAME:CET
DTSTART:20261025T010000
END:STANDARD
BEGIN:DAYLIGHT
TZOFFSETFROM:+0100
TZOFFSETTO:+0200
TZNAME:CEST
DTSTART:20270328T010000
END:DAYLIGHT
BEGIN:STANDARD
TZOFFSETFROM:+0200
TZOFFSETTO:+0100
TZNAME:CET
DTSTART:20271031T010000
END:STANDARD
END:VTIMEZONE
BEGIN:VEVENT
DTSTART;TZID=Europe/Paris:20260411T090000
DTEND;TZID=Europe/Paris:20260411T180000
DTSTAMP:20260425T155215
CREATED:20260309T043106Z
LAST-MODIFIED:20260309T052850Z
UID:17335-1775898000-1775930400@www.lac-du-bourget.com
SUMMARY:Les puces de Grenette
DESCRIPTION:Chaque mois\, la place Grenette à Chambéry devient un véritable trésor pour les chineurs. De 9h à 18h\, des vendeurs locaux proposent des objets variés issus de leurs greniers. Que vous soyez collectionneur ou simplement curieux\, cette brocante est l’occasion de dénicher des objets uniques. Pour toute question\, vous pouvez contacter Nadia Nahoui au 07 69 38 58 93.
URL:https://www.lac-du-bourget.com/evenement/les-puces-de-grenette/
LOCATION:Chambéry\, Chambéry\, 73000\, France
CATEGORIES:Brocante
ATTACH;FMTTYPE=image/webp:https://www.lac-du-bourget.com/wp-content/uploads/2026/03/les-puces-de-grenette-chambery-2026-04.webp
END:VEVENT
END:VCALENDAR