BEGIN:VCALENDAR
VERSION:2.0
PRODID:-//Lac du Bourget - ECPv6.15.20//NONSGML v1.0//EN
CALSCALE:GREGORIAN
METHOD:PUBLISH
X-WR-CALNAME:Lac du Bourget
X-ORIGINAL-URL:https://www.lac-du-bourget.com
X-WR-CALDESC:Évènements pour Lac du Bourget
REFRESH-INTERVAL;VALUE=DURATION:PT1H
X-Robots-Tag:noindex
X-PUBLISHED-TTL:PT1H
BEGIN:VTIMEZONE
TZID:Europe/Paris
BEGIN:DAYLIGHT
TZOFFSETFROM:+0100
TZOFFSETTO:+0200
TZNAME:CEST
DTSTART:20250330T010000
END:DAYLIGHT
BEGIN:STANDARD
TZOFFSETFROM:+0200
TZOFFSETTO:+0100
TZNAME:CET
DTSTART:20251026T010000
END:STANDARD
BEGIN:DAYLIGHT
TZOFFSETFROM:+0100
TZOFFSETTO:+0200
TZNAME:CEST
DTSTART:20260329T010000
END:DAYLIGHT
BEGIN:STANDARD
TZOFFSETFROM:+0200
TZOFFSETTO:+0100
TZNAME:CET
DTSTART:20261025T010000
END:STANDARD
BEGIN:DAYLIGHT
TZOFFSETFROM:+0100
TZOFFSETTO:+0200
TZNAME:CEST
DTSTART:20270328T010000
END:DAYLIGHT
BEGIN:STANDARD
TZOFFSETFROM:+0200
TZOFFSETTO:+0100
TZNAME:CET
DTSTART:20271031T010000
END:STANDARD
END:VTIMEZONE
BEGIN:VEVENT
DTSTART;TZID=Europe/Paris:20260123T180000
DTEND;TZID=Europe/Paris:20260403T210000
DTSTAMP:20260426T022525
CREATED:20260402T130158Z
LAST-MODIFIED:20260402T130203Z
UID:18122-1769191200-1775250000@www.lac-du-bourget.com
SUMMARY:Nocturnes au musée !
DESCRIPTION:Le musée des Beaux-Arts de Chambéry vous invite à ses Nocturnes\, une expérience unique à vivre de 18h à 21h. Ce rendez-vous mensuel est entièrement gratuit et permet de découvrir les œuvres du musée sous un autre jour. Les visiteurs sont les bienvenus pour explorer l’art et la culture dans un cadre convivial. Pour toute information\, contactez le service des publics au 04 79 68 58 45.
URL:https://www.lac-du-bourget.com/evenement/nocturnes-au-musee/
LOCATION:Chambéry\, Chambéry\, 73000\, France
CATEGORIES:Exposition
ATTACH;FMTTYPE=image/webp:https://www.lac-du-bourget.com/wp-content/uploads/2026/04/nocturnes-au-musee-chambery-2026-01.webp
END:VEVENT
BEGIN:VEVENT
DTSTART;TZID=Europe/Paris:20260311T103000
DTEND;TZID=Europe/Paris:20260311T113000
DTSTAMP:20260426T022525
CREATED:20260306T043008Z
LAST-MODIFIED:20260311T042426Z
UID:17183-1773225000-1773228600@www.lac-du-bourget.com
SUMMARY:La visite-atelier des 4-6 ans : Silhouettes colorées
DESCRIPTION:Les enfants de 4 à 6 ans sont invités à participer à un atelier créatif au Musée des Beaux Arts de Chambéry. Après une découverte de l’exposition\, ils s’inspireront des œuvres de Gérard Fromanger pour réaliser une œuvre pop et colorée. La réservation est obligatoire et peut se faire par téléphone au 04 79 68 58 45.
URL:https://www.lac-du-bourget.com/evenement/la-visite-atelier-des-4-6-ans-silhouettes-colorees/
LOCATION:Chambéry\, Chambéry\, 73000\, France
CATEGORIES:Atelier
ATTACH;FMTTYPE=image/webp:https://www.lac-du-bourget.com/wp-content/uploads/2026/03/la-visite-atelier-des-4-6-ans-silhouet-chambery-2026-03.webp
END:VEVENT
BEGIN:VEVENT
DTSTART;TZID=Europe/Paris:20260314T143000
DTEND;TZID=Europe/Paris:20260314T160000
DTSTAMP:20260426T022525
CREATED:20260308T043138Z
LAST-MODIFIED:20260312T042934Z
UID:17316-1773498600-1773504000@www.lac-du-bourget.com
SUMMARY:Visite à deux voix avec Georges Foissy et Nicolas Bousquet
DESCRIPTION:Participez à une visite unique au Musée des Beaux-Arts de Chambéry\, où Georges Foissy et Nicolas Bousquet vous plongeront dans l’univers de Mai 68 à travers des affiches emblématiques. Cette activité est destinée à tous les passionnés d’art et d’histoire. Pensez à réserver au 04 79 68 58 45 pour garantir votre place.
URL:https://www.lac-du-bourget.com/evenement/visite-a-deux-voix-avec-georges-foissy-et-nicolas-bousquet/
LOCATION:Chambéry\, Chambéry\, 73000\, France
CATEGORIES:Visite
ATTACH;FMTTYPE=image/webp:https://www.lac-du-bourget.com/wp-content/uploads/2026/03/visite-a-deux-voix-avec-georges-foissy-e-chambery-2026-03.webp
END:VEVENT
BEGIN:VEVENT
DTSTART;TZID=Europe/Paris:20260318T143000
DTEND;TZID=Europe/Paris:20260318T153000
DTSTAMP:20260426T022525
CREATED:20260312T043126Z
LAST-MODIFIED:20260312T043129Z
UID:17549-1773844200-1773847800@www.lac-du-bourget.com
SUMMARY:L'atelier musée 7-12 ans I Crée ta fibule !
DESCRIPTION:Les enfants de 7 à 12 ans sont invités à découvrir l’archéologie au Musée Savoisien\, situé à Chambéry. Ils apprendront à fabriquer leur propre fibule\, un bijou de l’âge du bronze\, tout en étant encadrés par une médiatrice. Les réservations se font par téléphone au 04 56 42 43 43.
URL:https://www.lac-du-bourget.com/evenement/l-atelier-musee-7-12-ans-i-cree-ta-fibule/
LOCATION:Chambéry\, Chambéry\, 73000\, France
CATEGORIES:Atelier
ATTACH;FMTTYPE=image/webp:https://www.lac-du-bourget.com/wp-content/uploads/2026/03/latelier-musee-7-12-ans-i-cree-ta-fibul-chambery-2026-03.webp
END:VEVENT
BEGIN:VEVENT
DTSTART;TZID=Europe/Paris:20260318T143000
DTEND;TZID=Europe/Paris:20260318T160000
DTSTAMP:20260426T022525
CREATED:20260312T043139Z
LAST-MODIFIED:20260312T043142Z
UID:17552-1773844200-1773849600@www.lac-du-bourget.com
SUMMARY:La visite-atelier des 7-12 ans : Collage à l’affiche
DESCRIPTION:Au Musée des Beaux-Arts à Chambéry\, les enfants de 7 à 12 ans découvriront une exposition avant de s’initier à la technique du collage pour créer des affiches colorées. Les places sont limitées et la réservation est obligatoire par téléphone au 04 79 68 58 45.
URL:https://www.lac-du-bourget.com/evenement/la-visite-atelier-des-7-12-ans-collage-a-laffiche/
LOCATION:Chambéry\, Chambéry\, 73000\, France
CATEGORIES:Atelier
ATTACH;FMTTYPE=image/webp:https://www.lac-du-bourget.com/wp-content/uploads/2026/03/la-visite-atelier-des-7-12-ans-collage-chambery-2026-03.webp
END:VEVENT
END:VCALENDAR