BEGIN:VCALENDAR
VERSION:2.0
PRODID:-//Lac du Bourget - ECPv6.15.20//NONSGML v1.0//EN
CALSCALE:GREGORIAN
METHOD:PUBLISH
X-ORIGINAL-URL:https://www.lac-du-bourget.com
X-WR-CALDESC:Évènements pour Lac du Bourget
REFRESH-INTERVAL;VALUE=DURATION:PT1H
X-Robots-Tag:noindex
X-PUBLISHED-TTL:PT1H
BEGIN:VTIMEZONE
TZID:Europe/Paris
BEGIN:DAYLIGHT
TZOFFSETFROM:+0100
TZOFFSETTO:+0200
TZNAME:CEST
DTSTART:20250330T010000
END:DAYLIGHT
BEGIN:STANDARD
TZOFFSETFROM:+0200
TZOFFSETTO:+0100
TZNAME:CET
DTSTART:20251026T010000
END:STANDARD
BEGIN:DAYLIGHT
TZOFFSETFROM:+0100
TZOFFSETTO:+0200
TZNAME:CEST
DTSTART:20260329T010000
END:DAYLIGHT
BEGIN:STANDARD
TZOFFSETFROM:+0200
TZOFFSETTO:+0100
TZNAME:CET
DTSTART:20261025T010000
END:STANDARD
BEGIN:DAYLIGHT
TZOFFSETFROM:+0100
TZOFFSETTO:+0200
TZNAME:CEST
DTSTART:20270328T010000
END:DAYLIGHT
BEGIN:STANDARD
TZOFFSETFROM:+0200
TZOFFSETTO:+0100
TZNAME:CET
DTSTART:20271031T010000
END:STANDARD
END:VTIMEZONE
BEGIN:VEVENT
DTSTART;TZID=Europe/Paris:20260523T200000
DTEND;TZID=Europe/Paris:20260523T223000
DTSTAMP:20260426T042128
CREATED:20260316T045056Z
LAST-MODIFIED:20260420T062628Z
UID:17703-1779566400-1779575400@www.lac-du-bourget.com
SUMMARY:LA NUIT DES MUSEES à Aqualis
DESCRIPTION:Venez découvrir le lac du Bourget lors de la Nuit des musées à Aqualis\, situé au 52 esplanade Jean Murguet\, Aix-les-Bains. Cet événement est ouvert à tous\, et vous aurez besoin d’un téléphone mobile pour participer à l’enquête nocturne. Pour toute information\, vous pouvez contacter le 04 79 70 64 69.
URL:https://www.lac-du-bourget.com/evenement/la-nuit-des-musees-a-aqualis/
LOCATION:Aix-les-Bains\, Aix-les-Bains\, 73100
CATEGORIES:Visite
ATTACH;FMTTYPE=image/webp:https://www.lac-du-bourget.com/wp-content/uploads/2026/03/la-nuit-des-musees-a-aqualis-aix-les-bains-2026-05.webp
END:VEVENT
END:VCALENDAR