BEGIN:VCALENDAR
VERSION:2.0
PRODID:-//Lac du Bourget - ECPv6.15.20//NONSGML v1.0//EN
CALSCALE:GREGORIAN
METHOD:PUBLISH
X-ORIGINAL-URL:https://www.lac-du-bourget.com
X-WR-CALDESC:Évènements pour Lac du Bourget
REFRESH-INTERVAL;VALUE=DURATION:PT1H
X-Robots-Tag:noindex
X-PUBLISHED-TTL:PT1H
BEGIN:VTIMEZONE
TZID:Europe/Paris
BEGIN:DAYLIGHT
TZOFFSETFROM:+0100
TZOFFSETTO:+0200
TZNAME:CEST
DTSTART:20250330T010000
END:DAYLIGHT
BEGIN:STANDARD
TZOFFSETFROM:+0200
TZOFFSETTO:+0100
TZNAME:CET
DTSTART:20251026T010000
END:STANDARD
BEGIN:DAYLIGHT
TZOFFSETFROM:+0100
TZOFFSETTO:+0200
TZNAME:CEST
DTSTART:20260329T010000
END:DAYLIGHT
BEGIN:STANDARD
TZOFFSETFROM:+0200
TZOFFSETTO:+0100
TZNAME:CET
DTSTART:20261025T010000
END:STANDARD
BEGIN:DAYLIGHT
TZOFFSETFROM:+0100
TZOFFSETTO:+0200
TZNAME:CEST
DTSTART:20270328T010000
END:DAYLIGHT
BEGIN:STANDARD
TZOFFSETFROM:+0200
TZOFFSETTO:+0100
TZNAME:CET
DTSTART:20271031T010000
END:STANDARD
END:VTIMEZONE
BEGIN:VEVENT
DTSTART;TZID=Europe/Paris:20260305T200000
DTEND;TZID=Europe/Paris:20260305T213000
DTSTAMP:20260426T022838
CREATED:20260306T042403Z
LAST-MODIFIED:20260306T042408Z
UID:17112-1772740800-1772746200@www.lac-du-bourget.com
SUMMARY:Spectacle : le bruit des arbres qui tombent
DESCRIPTION:Le spectacle ‘Le bruit des arbres qui tombent’ se déroule au Théâtre Charles Dullin\, situé place du Théâtre à Chambéry. Ce poème-paysage explore les thèmes de la nature et de l’âme humaine à travers les histoires de quatre personnages. Pour toute réservation\, contactez le 04 79 85 55 43.
URL:https://www.lac-du-bourget.com/evenement/spectacle-le-bruit-des-arbres-qui-tombent/
LOCATION:Chambéry\, Chambéry\, 73000\, France
CATEGORIES:Spectacle
ATTACH;FMTTYPE=image/webp:https://www.lac-du-bourget.com/wp-content/uploads/2026/03/spectacle-le-bruit-des-arbres-qui-tomb-chambery-2026-03.webp
END:VEVENT
BEGIN:VEVENT
DTSTART;TZID=Europe/Paris:20260306T120000
DTEND;TZID=Europe/Paris:20260306T170000
DTSTAMP:20260426T022838
CREATED:20260307T041803Z
LAST-MODIFIED:20260307T041807Z
UID:17205-1772798400-1772816400@www.lac-du-bourget.com
SUMMARY:Exposition de peinture : Sauvagerie Intérieure
DESCRIPTION:L’exposition de peinture ‘Sauvagerie Intérieure’ se tient à Chambéry\, au 68 rue Saint Real. Paul de Chatelperron\, l’artiste\, présente des œuvres évoquant des souvenirs de nature à travers des peintures à l’huile et des dessins. Cette exposition est une invitation à la contemplation et s’adresse à tous les passionnés d’art et de nature.
URL:https://www.lac-du-bourget.com/evenement/exposition-de-peinture-sauvagerie-interieure/
LOCATION:Chambéry\, Chambéry\, 73000\, France
CATEGORIES:Exposition
ATTACH;FMTTYPE=image/webp:https://www.lac-du-bourget.com/wp-content/uploads/2026/03/exposition-de-peinture-sauvagerie-inte-chambery-2026-03-2.webp
END:VEVENT
BEGIN:VEVENT
DTSTART;TZID=Europe/Paris:20260331T200000
DTEND;TZID=Europe/Paris:20260331T213000
DTSTAMP:20260426T022838
CREATED:20260331T053224Z
LAST-MODIFIED:20260331T053227Z
UID:18015-1774987200-1774992600@www.lac-du-bourget.com
SUMMARY:Spectacle : L'expérience de l'arbre
DESCRIPTION:Venez découvrir le spectacle ‘L’expérience de l’arbre’ au Théâtre Charles Dullin\, situé Place du Théâtre à Chambéry. Les comédiens Simon Gauchet et Tatsushige Udaka\, accompagnés du musicien Joaquim Pavy\, vous invitent à une exploration théâtrale fascinante entre nature et imaginaire. Réservation recommandée au 04 79 85 55 43.
URL:https://www.lac-du-bourget.com/evenement/spectacle-l-experience-de-l-arbre/
LOCATION:Chambéry\, Chambéry\, 73000\, France
CATEGORIES:Spectacle
ATTACH;FMTTYPE=image/webp:https://www.lac-du-bourget.com/wp-content/uploads/2026/03/spectacle-lexperience-de-larbre-chambery-2026-03.webp
END:VEVENT
END:VCALENDAR