BEGIN:VCALENDAR
VERSION:2.0
PRODID:-//Lac du Bourget - ECPv6.15.20//NONSGML v1.0//EN
CALSCALE:GREGORIAN
METHOD:PUBLISH
X-WR-CALNAME:Lac du Bourget
X-ORIGINAL-URL:https://www.lac-du-bourget.com
X-WR-CALDESC:Évènements pour Lac du Bourget
REFRESH-INTERVAL;VALUE=DURATION:PT1H
X-Robots-Tag:noindex
X-PUBLISHED-TTL:PT1H
BEGIN:VTIMEZONE
TZID:Europe/Paris
BEGIN:DAYLIGHT
TZOFFSETFROM:+0100
TZOFFSETTO:+0200
TZNAME:CEST
DTSTART:20250330T010000
END:DAYLIGHT
BEGIN:STANDARD
TZOFFSETFROM:+0200
TZOFFSETTO:+0100
TZNAME:CET
DTSTART:20251026T010000
END:STANDARD
BEGIN:DAYLIGHT
TZOFFSETFROM:+0100
TZOFFSETTO:+0200
TZNAME:CEST
DTSTART:20260329T010000
END:DAYLIGHT
BEGIN:STANDARD
TZOFFSETFROM:+0200
TZOFFSETTO:+0100
TZNAME:CET
DTSTART:20261025T010000
END:STANDARD
BEGIN:DAYLIGHT
TZOFFSETFROM:+0100
TZOFFSETTO:+0200
TZNAME:CEST
DTSTART:20270328T010000
END:DAYLIGHT
BEGIN:STANDARD
TZOFFSETFROM:+0200
TZOFFSETTO:+0100
TZNAME:CET
DTSTART:20271031T010000
END:STANDARD
END:VTIMEZONE
BEGIN:VEVENT
DTSTART;TZID=Europe/Paris:20260415T150000
DTEND;TZID=Europe/Paris:20260415T195000
DTSTAMP:20260420T060545
CREATED:20260302T175147Z
LAST-MODIFIED:20260309T053021Z
UID:16592-1776265200-1776282600@www.lac-du-bourget.com
SUMMARY:Spectacle : Faire soi.e
DESCRIPTION:Le spectacle ‘Faire soi.e’ se déroule à la Scène nationale Malraux\, située au 67 place François Mitterrand à Chambéry. Réalisé par La Ruse\, ce spectacle met en scène Mélanie Favre qui propose une performance unique mêlant danse et punk. Les représentations ont lieu les 15 et 16 avril 2026\, avec une durée de 30 minutes de spectacle suivi de 20 minutes d’échanges. Pour réserver\, contactez le 04 79 85 55 43.
URL:https://www.lac-du-bourget.com/evenement/spectacle-faire-soi-e/
LOCATION:Chambéry\, Chambéry\, 73000\, France
CATEGORIES:Spectacle
ATTACH;FMTTYPE=image/webp:https://www.lac-du-bourget.com/wp-content/uploads/2026/03/spectacle-faire-soie-chambery-2026-04.webp
END:VEVENT
END:VCALENDAR