BEGIN:VCALENDAR
VERSION:2.0
PRODID:-//Lac du Bourget - ECPv6.15.20//NONSGML v1.0//EN
CALSCALE:GREGORIAN
METHOD:PUBLISH
X-ORIGINAL-URL:https://www.lac-du-bourget.com
X-WR-CALDESC:Évènements pour Lac du Bourget
REFRESH-INTERVAL;VALUE=DURATION:PT1H
X-Robots-Tag:noindex
X-PUBLISHED-TTL:PT1H
BEGIN:VTIMEZONE
TZID:Europe/Paris
BEGIN:DAYLIGHT
TZOFFSETFROM:+0100
TZOFFSETTO:+0200
TZNAME:CEST
DTSTART:20250330T010000
END:DAYLIGHT
BEGIN:STANDARD
TZOFFSETFROM:+0200
TZOFFSETTO:+0100
TZNAME:CET
DTSTART:20251026T010000
END:STANDARD
BEGIN:DAYLIGHT
TZOFFSETFROM:+0100
TZOFFSETTO:+0200
TZNAME:CEST
DTSTART:20260329T010000
END:DAYLIGHT
BEGIN:STANDARD
TZOFFSETFROM:+0200
TZOFFSETTO:+0100
TZNAME:CET
DTSTART:20261025T010000
END:STANDARD
BEGIN:DAYLIGHT
TZOFFSETFROM:+0100
TZOFFSETTO:+0200
TZNAME:CEST
DTSTART:20270328T010000
END:DAYLIGHT
BEGIN:STANDARD
TZOFFSETFROM:+0200
TZOFFSETTO:+0100
TZNAME:CET
DTSTART:20271031T010000
END:STANDARD
END:VTIMEZONE
BEGIN:VEVENT
DTSTART;TZID=Europe/Paris:20260515T200000
DTEND;TZID=Europe/Paris:20260515T235959
DTSTAMP:20260425T150320
CREATED:20260422T052114Z
LAST-MODIFIED:20260425T045228Z
UID:18769-1778875200-1778889599@www.lac-du-bourget.com
SUMMARY:Concert de Fiona Monbet\, Pierre Cussac et le Quatuor Agate
DESCRIPTION:Le 15 mai 2026\, le Salon Raphaël au Casino Grand Cercle d’Aix-les-Bains accueille un concert exceptionnel avec le duo jazz Fiona Monbet au violon et Pierre Cussac à l’accordéon\, accompagnés du Quatuor Agate. Ce concert promet des rencontres musicales inédites et des œuvres phares. Pour plus d’informations\, contactez le 04 79 88 09 99.
URL:https://www.lac-du-bourget.com/evenement/concert-de-fiona-monbet-pierre-cussac-et-le-quatuor-agate/
LOCATION:Aix-les-Bains\, Aix-les-Bains\, 73100
CATEGORIES:Concerts
ATTACH;FMTTYPE=image/webp:https://www.lac-du-bourget.com/wp-content/uploads/2026/04/concert-de-fiona-monbet-pierre-cussac-e-aix-les-bains-2026-05.webp
END:VEVENT
END:VCALENDAR