BEGIN:VCALENDAR
VERSION:2.0
PRODID:-//Lac du Bourget - ECPv6.15.20//NONSGML v1.0//EN
CALSCALE:GREGORIAN
METHOD:PUBLISH
X-WR-CALNAME:Lac du Bourget
X-ORIGINAL-URL:https://www.lac-du-bourget.com
X-WR-CALDESC:Évènements pour Lac du Bourget
REFRESH-INTERVAL;VALUE=DURATION:PT1H
X-Robots-Tag:noindex
X-PUBLISHED-TTL:PT1H
BEGIN:VTIMEZONE
TZID:Europe/Paris
BEGIN:DAYLIGHT
TZOFFSETFROM:+0100
TZOFFSETTO:+0200
TZNAME:CEST
DTSTART:20250330T010000
END:DAYLIGHT
BEGIN:STANDARD
TZOFFSETFROM:+0200
TZOFFSETTO:+0100
TZNAME:CET
DTSTART:20251026T010000
END:STANDARD
BEGIN:DAYLIGHT
TZOFFSETFROM:+0100
TZOFFSETTO:+0200
TZNAME:CEST
DTSTART:20260329T010000
END:DAYLIGHT
BEGIN:STANDARD
TZOFFSETFROM:+0200
TZOFFSETTO:+0100
TZNAME:CET
DTSTART:20261025T010000
END:STANDARD
BEGIN:DAYLIGHT
TZOFFSETFROM:+0100
TZOFFSETTO:+0200
TZNAME:CEST
DTSTART:20270328T010000
END:DAYLIGHT
BEGIN:STANDARD
TZOFFSETFROM:+0200
TZOFFSETTO:+0100
TZNAME:CET
DTSTART:20271031T010000
END:STANDARD
END:VTIMEZONE
BEGIN:VEVENT
DTSTART;TZID=Europe/Paris:20260410T190000
DTEND;TZID=Europe/Paris:20260410T203000
DTSTAMP:20260425T152914
CREATED:20260302T175025Z
LAST-MODIFIED:20260331T044515Z
UID:16565-1775847600-1775853000@www.lac-du-bourget.com
SUMMARY:Instants BE FIT : Yoga et dégustation de thé
DESCRIPTION:Participez à une séance de yoga doux le 10 avril 2026 au magasin Décathlon situé à Grésy-sur-Aix. Ce cours est accessible à tous\, débutants comme initiés\, et inclut des mouvements\, de la respiration et une relaxation sonore. Réservez au 04 79 88 68 00 pour profiter d’un moment de bien-être.
URL:https://www.lac-du-bourget.com/evenement/instants-be-fit-yoga-et-degustation-de-the/
LOCATION:Grésy-sur-Aix
CATEGORIES:Atelier
ATTACH;FMTTYPE=image/webp:https://www.lac-du-bourget.com/wp-content/uploads/2026/03/instants-be-fit-yoga-et-degustation-de-gresy-sur-aix-2026-04.webp
END:VEVENT
END:VCALENDAR