BEGIN:VCALENDAR
VERSION:2.0
PRODID:-//Lac du Bourget - ECPv6.15.20//NONSGML v1.0//EN
CALSCALE:GREGORIAN
METHOD:PUBLISH
X-WR-CALNAME:Lac du Bourget
X-ORIGINAL-URL:https://www.lac-du-bourget.com
X-WR-CALDESC:Évènements pour Lac du Bourget
REFRESH-INTERVAL;VALUE=DURATION:PT1H
X-Robots-Tag:noindex
X-PUBLISHED-TTL:PT1H
BEGIN:VTIMEZONE
TZID:Europe/Paris
BEGIN:DAYLIGHT
TZOFFSETFROM:+0100
TZOFFSETTO:+0200
TZNAME:CEST
DTSTART:20250330T010000
END:DAYLIGHT
BEGIN:STANDARD
TZOFFSETFROM:+0200
TZOFFSETTO:+0100
TZNAME:CET
DTSTART:20251026T010000
END:STANDARD
BEGIN:DAYLIGHT
TZOFFSETFROM:+0100
TZOFFSETTO:+0200
TZNAME:CEST
DTSTART:20260329T010000
END:DAYLIGHT
BEGIN:STANDARD
TZOFFSETFROM:+0200
TZOFFSETTO:+0100
TZNAME:CET
DTSTART:20261025T010000
END:STANDARD
BEGIN:DAYLIGHT
TZOFFSETFROM:+0100
TZOFFSETTO:+0200
TZNAME:CEST
DTSTART:20270328T010000
END:DAYLIGHT
BEGIN:STANDARD
TZOFFSETFROM:+0200
TZOFFSETTO:+0100
TZNAME:CET
DTSTART:20271031T010000
END:STANDARD
END:VTIMEZONE
BEGIN:VEVENT
DTSTART;TZID=Europe/Paris:20260305T184500
DTEND;TZID=Europe/Paris:20260305T235959
DTSTAMP:20260426T022757
CREATED:20260302T052831Z
LAST-MODIFIED:20260305T042709Z
UID:16358-1772736300-1772755199@www.lac-du-bourget.com
SUMMARY:Descente aux flambeaux des enfants et feu d’artifice
DESCRIPTION:La descente aux flambeaux des enfants se déroule au Revard\, 130 boucle de l’angle\, 73100 Le Revard. Les enfants\, accompagnés de moniteurs\, illuminent la piste avec leurs flambeaux. La soirée se termine par un feu d’artifice et une dégustation de fromages\, créant une ambiance conviviale. Cet événement est ouvert aux enfants ayant le niveau ourson et les parents peuvent les accompagner.
URL:https://www.lac-du-bourget.com/evenement/ldb-b404c16b702f-2/
LOCATION:Le Revard\, Le Revard\, 73100\, France
CATEGORIES:Feux d'artifice
ATTACH;FMTTYPE=image/webp:https://www.lac-du-bourget.com/wp-content/uploads/2026/03/descente-aux-flambeaux-des-enfants-et-fe-le-revard-2026-03.webp
END:VEVENT
BEGIN:VEVENT
DTSTART;TZID=Europe/Paris:20260314T140000
DTEND;TZID=Europe/Paris:20260322T190000
DTSTAMP:20260426T022757
CREATED:20260310T042923Z
LAST-MODIFIED:20260312T091715Z
UID:17436-1773496800-1774206000@www.lac-du-bourget.com
SUMMARY:Exposition - 18èmes rencontres photographiques
DESCRIPTION:Les 18èmes Rencontres Photographiques se déroulent à la Ferme de Bressieux à Bassens\, du 14 au 22 mars\, tous les jours de 14h à 19h. L’entrée est libre. Cette exposition met en avant des photographes qui explorent diverses techniques anciennes et modernes\, offrant un regard unique sur la Savoie. Idéal pour les passionnés de photographie et d’art.
URL:https://www.lac-du-bourget.com/evenement/exposition-18emes-rencontres-photographiques/
LOCATION:Bassens\, Bassens\, 73000\, France
CATEGORIES:Exposition
ATTACH;FMTTYPE=image/webp:https://www.lac-du-bourget.com/wp-content/uploads/2026/03/exposition-18emes-rencontres-photograp-2026-03.webp
END:VEVENT
END:VCALENDAR