BEGIN:VCALENDAR
VERSION:2.0
PRODID:-//Lac du Bourget - ECPv6.15.20//NONSGML v1.0//EN
CALSCALE:GREGORIAN
METHOD:PUBLISH
X-ORIGINAL-URL:https://www.lac-du-bourget.com
X-WR-CALDESC:Évènements pour Lac du Bourget
REFRESH-INTERVAL;VALUE=DURATION:PT1H
X-Robots-Tag:noindex
X-PUBLISHED-TTL:PT1H
BEGIN:VTIMEZONE
TZID:Europe/Paris
BEGIN:DAYLIGHT
TZOFFSETFROM:+0100
TZOFFSETTO:+0200
TZNAME:CEST
DTSTART:20250330T010000
END:DAYLIGHT
BEGIN:STANDARD
TZOFFSETFROM:+0200
TZOFFSETTO:+0100
TZNAME:CET
DTSTART:20251026T010000
END:STANDARD
BEGIN:DAYLIGHT
TZOFFSETFROM:+0100
TZOFFSETTO:+0200
TZNAME:CEST
DTSTART:20260329T010000
END:DAYLIGHT
BEGIN:STANDARD
TZOFFSETFROM:+0200
TZOFFSETTO:+0100
TZNAME:CET
DTSTART:20261025T010000
END:STANDARD
BEGIN:DAYLIGHT
TZOFFSETFROM:+0100
TZOFFSETTO:+0200
TZNAME:CEST
DTSTART:20270328T010000
END:DAYLIGHT
BEGIN:STANDARD
TZOFFSETFROM:+0200
TZOFFSETTO:+0100
TZNAME:CET
DTSTART:20271031T010000
END:STANDARD
END:VTIMEZONE
BEGIN:VEVENT
DTSTART;TZID=Europe/Paris:20260421T180000
DTEND;TZID=Europe/Paris:20260421T200000
DTSTAMP:20260422T040133
CREATED:20260421T050015Z
LAST-MODIFIED:20260421T050021Z
UID:18702-1776794400-1776801600@www.lac-du-bourget.com
SUMMARY:Ciné-Débat "La Maison des Femmes"
DESCRIPTION:Le Ciné-Débat « La Maison des Femmes » se déroule le mardi 21 avril 2026 à la Salle Cinélac\, 18 route de Chambéry\, Le Bourget-du-Lac. Ce film poignant aborde la lutte contre les violences conjugales et sera suivi d’un échange avec des intervenantes engagées. Cet événement s’adresse à tous ceux qui souhaitent s’informer et agir contre ces violences.
URL:https://www.lac-du-bourget.com/evenement/cine-debat-la-maison-des-femmes/
LOCATION:Le Bourget-du-Lac\, Le Bourget-du-Lac\, 73370\, France
CATEGORIES:Cinéma
ATTACH;FMTTYPE=image/webp:https://www.lac-du-bourget.com/wp-content/uploads/2026/04/cine-debat-la-maison-des-femmes-le-bourget-du-lac-2026-04.webp
END:VEVENT
END:VCALENDAR