BEGIN:VCALENDAR
VERSION:2.0
PRODID:-//Lac du Bourget - ECPv6.15.20//NONSGML v1.0//EN
CALSCALE:GREGORIAN
METHOD:PUBLISH
X-WR-CALNAME:Lac du Bourget
X-ORIGINAL-URL:https://www.lac-du-bourget.com
X-WR-CALDESC:Évènements pour Lac du Bourget
REFRESH-INTERVAL;VALUE=DURATION:PT1H
X-Robots-Tag:noindex
X-PUBLISHED-TTL:PT1H
BEGIN:VTIMEZONE
TZID:Europe/Paris
BEGIN:DAYLIGHT
TZOFFSETFROM:+0100
TZOFFSETTO:+0200
TZNAME:CEST
DTSTART:20240331T010000
END:DAYLIGHT
BEGIN:STANDARD
TZOFFSETFROM:+0200
TZOFFSETTO:+0100
TZNAME:CET
DTSTART:20241027T010000
END:STANDARD
BEGIN:DAYLIGHT
TZOFFSETFROM:+0100
TZOFFSETTO:+0200
TZNAME:CEST
DTSTART:20250330T010000
END:DAYLIGHT
BEGIN:STANDARD
TZOFFSETFROM:+0200
TZOFFSETTO:+0100
TZNAME:CET
DTSTART:20251026T010000
END:STANDARD
BEGIN:DAYLIGHT
TZOFFSETFROM:+0100
TZOFFSETTO:+0200
TZNAME:CEST
DTSTART:20260329T010000
END:DAYLIGHT
BEGIN:STANDARD
TZOFFSETFROM:+0200
TZOFFSETTO:+0100
TZNAME:CET
DTSTART:20261025T010000
END:STANDARD
BEGIN:DAYLIGHT
TZOFFSETFROM:+0100
TZOFFSETTO:+0200
TZNAME:CEST
DTSTART:20270328T010000
END:DAYLIGHT
BEGIN:STANDARD
TZOFFSETFROM:+0200
TZOFFSETTO:+0100
TZNAME:CET
DTSTART:20271031T010000
END:STANDARD
END:VTIMEZONE
BEGIN:VEVENT
DTSTART;TZID=Europe/Paris:20251219T203000
DTEND;TZID=Europe/Paris:20260425T235959
DTSTAMP:20260419T141414
CREATED:20260331T053628Z
LAST-MODIFIED:20260402T130210Z
UID:18036-1766176200-1777161599@www.lac-du-bourget.com
SUMMARY:Une semaine pas plus
DESCRIPTION:La comédie ‘Une semaine pas plus’ se joue à La Comédie des Alpes à Chambéry. Ce spectacle\, destiné à un large public\, promet des fous rires grâce à un ménage à trois explosif. Les réservations ne sont pas nécessaires\, mais il est conseillé d’arriver en avance car les places ne sont pas numérotées.
URL:https://www.lac-du-bourget.com/evenement/une-semaine-pas-plus/
LOCATION:Chambéry\, Chambéry\, 73000\, France
CATEGORIES:Spectacle
ATTACH;FMTTYPE=image/webp:https://www.lac-du-bourget.com/wp-content/uploads/2026/03/une-semaine-pas-plus-chambery-2025-12.webp
END:VEVENT
BEGIN:VEVENT
DTSTART;TZID=Europe/Paris:20260303T200000
DTEND;TZID=Europe/Paris:20260303T235959
DTSTAMP:20260419T141414
CREATED:20260304T095845Z
LAST-MODIFIED:20260304T095854Z
UID:16934-1772568000-1772582399@www.lac-du-bourget.com
SUMMARY:Théâtre : Guillotine
DESCRIPTION:Le spectacle ‘Guillotine’ se déroule au Théâtre/performance artistique à Chambéry\, 73000. Ce drame en trois tableaux aborde les sensations d’une victime d’agression. Pour les amateurs de théâtre et d’art dramatique\, cet événement promet une expérience saisissante. Réservez votre place en contactant le 07 49 41 85 85.
URL:https://www.lac-du-bourget.com/evenement/theatre-guillotine/
LOCATION:Chambéry\, Chambéry\, 73000\, France
CATEGORIES:Spectacle
ATTACH;FMTTYPE=image/webp:https://www.lac-du-bourget.com/wp-content/uploads/2026/03/theatre-guillotine-chambery-2026-03.webp
END:VEVENT
BEGIN:VEVENT
DTSTART;TZID=Europe/Paris:20260303T203000
DTEND;TZID=Europe/Paris:20260303T223000
DTSTAMP:20260419T141414
CREATED:20260303T061108Z
LAST-MODIFIED:20260303T061112Z
UID:16819-1772569800-1772577000@www.lac-du-bourget.com
SUMMARY:Les Nuits de la Roulotte : concert La Mòssa
DESCRIPTION:Le concert La Mòssa se déroule au Théâtre Charles Dullin\, situé Place du Théâtre à Chambéry. Contactez le 04 56 29 51 54 pour plus d’informations. Accessible à tous\, cet événement met en avant des polyphonies et percussions du monde\, offrant une expérience musicale riche et vivante.
URL:https://www.lac-du-bourget.com/evenement/les-nuits-de-la-roulotte-concert-la-mossa/
LOCATION:Chambéry\, Chambéry\, 73000\, France
CATEGORIES:Concerts
ATTACH;FMTTYPE=image/webp:https://www.lac-du-bourget.com/wp-content/uploads/2026/03/les-nuits-de-la-roulotte-concert-la-mo-chambery-2026-03.webp
END:VEVENT
END:VCALENDAR