BEGIN:VCALENDAR
VERSION:2.0
PRODID:-//Lac du Bourget - ECPv6.15.20//NONSGML v1.0//EN
CALSCALE:GREGORIAN
METHOD:PUBLISH
X-ORIGINAL-URL:https://www.lac-du-bourget.com
X-WR-CALDESC:Évènements pour Lac du Bourget
REFRESH-INTERVAL;VALUE=DURATION:PT1H
X-Robots-Tag:noindex
X-PUBLISHED-TTL:PT1H
BEGIN:VTIMEZONE
TZID:Europe/Paris
BEGIN:DAYLIGHT
TZOFFSETFROM:+0100
TZOFFSETTO:+0200
TZNAME:CEST
DTSTART:20250330T010000
END:DAYLIGHT
BEGIN:STANDARD
TZOFFSETFROM:+0200
TZOFFSETTO:+0100
TZNAME:CET
DTSTART:20251026T010000
END:STANDARD
BEGIN:DAYLIGHT
TZOFFSETFROM:+0100
TZOFFSETTO:+0200
TZNAME:CEST
DTSTART:20260329T010000
END:DAYLIGHT
BEGIN:STANDARD
TZOFFSETFROM:+0200
TZOFFSETTO:+0100
TZNAME:CET
DTSTART:20261025T010000
END:STANDARD
BEGIN:DAYLIGHT
TZOFFSETFROM:+0100
TZOFFSETTO:+0200
TZNAME:CEST
DTSTART:20270328T010000
END:DAYLIGHT
BEGIN:STANDARD
TZOFFSETFROM:+0200
TZOFFSETTO:+0100
TZNAME:CET
DTSTART:20271031T010000
END:STANDARD
END:VTIMEZONE
BEGIN:VEVENT
DTSTART;TZID=Europe/Paris:20260312T200000
DTEND;TZID=Europe/Paris:20260312T213000
DTSTAMP:20260421T103914
CREATED:20260308T042926Z
LAST-MODIFIED:20260312T042815Z
UID:17296-1773345600-1773351000@www.lac-du-bourget.com
SUMMARY:London Fog : Musique & Théâtre à la Chartreuse d'Aillon
DESCRIPTION:Le spectacle ‘London Fog’ se déroule à la Chartreuse d’Aillon\, située au 630 Route de la Chartreuse\, 73340 Aillon-le-Jeune. Il présente des folksongs et des chansons de Purcell\, réalisées par Benjamin Britten. Réservé aux amateurs de musique anglaise\, ce spectacle propose un voyage poétique au fil des siècles. Pour toute réservation\, contactez le 06 15 35 26 23.
URL:https://www.lac-du-bourget.com/evenement/london-fog-musique-theatre-a-la-chartreuse-d-aillon/
LOCATION:Aillon-le-Jeune\, Aillon-le-Jeune\, 73340\, France
CATEGORIES:Spectacle
ATTACH;FMTTYPE=image/webp:https://www.lac-du-bourget.com/wp-content/uploads/2026/03/london-fog-musique-theatre-a-la-char-aillon-le-jeune-2026-03.webp
END:VEVENT
BEGIN:VEVENT
DTSTART;TZID=Europe/Paris:20260312T190000
DTEND;TZID=Europe/Paris:20260312T203000
DTSTAMP:20260421T103914
CREATED:20260308T042915Z
LAST-MODIFIED:20260312T042748Z
UID:17293-1773342000-1773347400@www.lac-du-bourget.com
SUMMARY:Récital musical et poétique
DESCRIPTION:Le Récital musical et poétique se déroulera à Chambéry\, au Scarabée\, situé au 154 avenue Daniel-Rops. Ce spectacle mettra en avant Marc Alexandre Oho Bambé et la pianiste Caroline Bentz\, accompagné des élèves de la Cité des Arts. La participation est gratuite\, avec une entrée libre dans la limite des places disponibles. Pour plus d’informations\, vous pouvez contacter le 04 79 72 25 81.
URL:https://www.lac-du-bourget.com/evenement/recital-musical-et-poetique/
LOCATION:Chambéry\, Chambéry\, 73000\, France
CATEGORIES:Spectacle
ATTACH;FMTTYPE=image/webp:https://www.lac-du-bourget.com/wp-content/uploads/2026/03/recital-musical-et-poetique-chambery-2026-03.webp
END:VEVENT
BEGIN:VEVENT
DTSTART;TZID=Europe/Paris:20260311T200000
DTEND;TZID=Europe/Paris:20260313T215000
DTSTAMP:20260421T103914
CREATED:20260306T043048Z
LAST-MODIFIED:20260312T042810Z
UID:17193-1773259200-1773438600@www.lac-du-bourget.com
SUMMARY:Spectacle : Le Sommet
DESCRIPTION:Le spectacle ‘Le Sommet’ se déroule à la Scène nationale de Chambéry\, située au 67 place François Mitterrand. Animé par Christoph Marthaler\, il explore la diplomatie et le pouvoir à travers des situations burlesques\, réunissant six personnages multilingues. Les réservations peuvent être effectuées par téléphone au 04 79 85 55 43.
URL:https://www.lac-du-bourget.com/evenement/spectacle-le-sommet/
LOCATION:Chambéry\, Chambéry\, 73000\, France
CATEGORIES:Spectacle
ATTACH;FMTTYPE=image/webp:https://www.lac-du-bourget.com/wp-content/uploads/2026/03/spectacle-le-sommet-chambery-2026-03.webp
END:VEVENT
BEGIN:VEVENT
DTSTART;TZID=Europe/Paris:20260311T190000
DTEND;TZID=Europe/Paris:20260313T200000
DTSTAMP:20260421T103914
CREATED:20260308T042901Z
LAST-MODIFIED:20260312T042742Z
UID:17290-1773255600-1773432000@www.lac-du-bourget.com
SUMMARY:Spectacle : Panaches
DESCRIPTION:Le spectacle ‘Panaches’ de Pau Simon se déroule à Chambéry\, au Carré Curial\, 67 place François Mitterrand. Ce spectacle\, qui s’inspire des créatures marines\, présente une odyssée aquatique mêlant danse et musique. Les billets sont disponibles au téléphone au 04 79 85 55 43. Ce spectacle s’adresse à tous les amateurs d’art et de culture.
URL:https://www.lac-du-bourget.com/evenement/spectacle-panaches/
LOCATION:Chambéry\, Chambéry\, 73000\, France
CATEGORIES:Spectacle
ATTACH;FMTTYPE=image/webp:https://www.lac-du-bourget.com/wp-content/uploads/2026/03/spectacle-panaches-chambery-2026-03-1.webp
END:VEVENT
BEGIN:VEVENT
DTSTART;TZID=Europe/Paris:20260307T170000
DTEND;TZID=Europe/Paris:20260307T235959
DTSTAMP:20260421T103914
CREATED:20260303T061924Z
LAST-MODIFIED:20260307T041929Z
UID:16909-1772902800-1772927999@www.lac-du-bourget.com
SUMMARY:Spectacle pour petits et grands
DESCRIPTION:Venez assister à un spectacle inoubliable à Barberaz\, à la salle polyvalente située au 1 avenue du stade. Le spectacle commence à 17h\, avec ouverture des portes à 16h. Ce divertissement est conçu pour toute la famille\, avec un magicien pour les enfants et un mentaliste pour les adultes.
URL:https://www.lac-du-bourget.com/evenement/spectacle-pour-petits-et-grands/
CATEGORIES:Spectacle
ATTACH;FMTTYPE=image/webp:https://www.lac-du-bourget.com/wp-content/uploads/2026/03/spectacle-pour-petits-et-grands-2026-03.webp
END:VEVENT
BEGIN:VEVENT
DTSTART;TZID=Europe/Paris:20260307T160000
DTEND;TZID=Europe/Paris:20260307T170000
DTSTAMP:20260421T103914
CREATED:20260304T100412Z
LAST-MODIFIED:20260304T100415Z
UID:16964-1772899200-1772902800@www.lac-du-bourget.com
SUMMARY:L'heure du conte avec Michelle Bozon
DESCRIPTION:Assistez à l’heure du conte avec Michelle Bozon à la Médiathèque Jean-Jacques Rousseau\, située au Carré Curial à Chambéry. Cet événement\, prévu le samedi 7 mars 2026 de 16h à 17h\, est ouvert à tous et ne nécessite pas de réservation. Vous pourrez profiter d’histoires captivantes dans un cadre convivial.
URL:https://www.lac-du-bourget.com/evenement/l-heure-du-conte-avec-michelle-bozon-2/
LOCATION:Chambéry\, Chambéry\, 73000\, France
CATEGORIES:Spectacle
ATTACH;FMTTYPE=image/webp:https://www.lac-du-bourget.com/wp-content/uploads/2026/03/lheure-du-conte-avec-michelle-bozon-chambery-2026-03-1.webp
END:VEVENT
BEGIN:VEVENT
DTSTART;TZID=Europe/Paris:20260307T143000
DTEND;TZID=Europe/Paris:20260307T204100
DTSTAMP:20260421T103914
CREATED:20260307T042010Z
LAST-MODIFIED:20260307T042010Z
UID:17224-1772893800-1772916060@www.lac-du-bourget.com
SUMMARY:Cinéma : Fantastique
DESCRIPTION:Le Cinéma : Fantastique à Chambéry propose un film inspirant sur Fanta\, une contorsionniste de 14 ans originaire de Guinée\, qui rêve de rejoindre le cirque acrobatique Amoukanama. Une séance spéciale aura lieu le 7 mars 2026\, avec la présence de la réalisatrice et d’accrobates. Pour les réservations\, contactez le 04 79 85 55 43.
URL:https://www.lac-du-bourget.com/evenement/cinema-fantastique-4/
LOCATION:Chambéry\, Chambéry\, 73000\, France
END:VEVENT
BEGIN:VEVENT
DTSTART;TZID=Europe/Paris:20260307T100000
DTEND;TZID=Europe/Paris:20260307T113000
DTSTAMP:20260421T103914
CREATED:20260304T180411Z
LAST-MODIFIED:20260304T180412Z
UID:17000-1772877600-1772883000@www.lac-du-bourget.com
SUMMARY:Duo frappé chanté : Téklash
DESCRIPTION:Le duo Téklash animera les rues de Chambéry avec un spectacle de chant et de musique. Préparez-vous à une expérience unique au cœur des Hauts de Chambéry\, où ils proposeront des pastilles musicales au pied des fenêtres et dans les espaces publics. Accessible à tous\, cet événement gratuit promet d’être chaleureux et accueillant. Pour tout renseignement\, vous pouvez contacter le 04 56 29 51 54.
URL:https://www.lac-du-bourget.com/evenement/duo-frappe-chante-teklash-2/
LOCATION:Chambéry\, Chambéry\, 73000\, France
CATEGORIES:Concerts
END:VEVENT
BEGIN:VEVENT
DTSTART;TZID=Europe/Paris:20260307T100000
DTEND;TZID=Europe/Paris:20260307T113000
DTSTAMP:20260421T103914
CREATED:20260303T061728Z
LAST-MODIFIED:20260307T041750Z
UID:16885-1772877600-1772883000@www.lac-du-bourget.com
SUMMARY:Duo frappé chanté : Téklash
DESCRIPTION:Le duo Téklash se produira à Chambéry\, offrant une expérience musicale unique au pied des fenêtres et dans les espaces publics. Avec leurs estrades mobiles\, ils animeront les rues de chants apaisants et énergiques\, favorisant les rencontres. Cet événement est gratuit et ne nécessite pas de réservation. Accessible à tous\, il promet un moment convivial et rafraîchissant.
URL:https://www.lac-du-bourget.com/evenement/duo-frappe-chante-teklash/
LOCATION:Chambéry\, Chambéry\, 73000\, France
CATEGORIES:Concerts
ATTACH;FMTTYPE=image/webp:https://www.lac-du-bourget.com/wp-content/uploads/2026/03/duo-frappe-chante-teklash-chambery-2026-03-1.webp
END:VEVENT
BEGIN:VEVENT
DTSTART;TZID=Europe/Paris:20260306T203000
DTEND;TZID=Europe/Paris:20260306T235959
DTSTAMP:20260421T103914
CREATED:20260304T180312Z
LAST-MODIFIED:20260306T042417Z
UID:16997-1772829000-1772841599@www.lac-du-bourget.com
SUMMARY:Comédie : Sexe\, magouilles et culture générale
DESCRIPTION:La comédie ‘Sexe\, magouilles et culture générale’ se déroule à La Comédie des Alpes\, à Chambéry. Cette parodie interactive du jeu télévisé ‘Culture pour tous’ promet un grand moment de rire pour le public. Les spectateurs sont invités à venir en avance\, car les places ne sont pas numérotées et le placement se fait par ordre d’arrivée.
URL:https://www.lac-du-bourget.com/evenement/comedie-sexe-magouilles-et-culture-generale/
LOCATION:Chambéry\, Chambéry\, 73000\, France
CATEGORIES:Spectacle
ATTACH;FMTTYPE=image/webp:https://www.lac-du-bourget.com/wp-content/uploads/2026/03/comedie-sexe-magouilles-et-culture-ge-chambery-2026-03-1.webp
END:VEVENT
BEGIN:VEVENT
DTSTART;TZID=Europe/Paris:20260305T203000
DTEND;TZID=Europe/Paris:20260305T233000
DTSTAMP:20260421T103914
CREATED:20260305T042721Z
LAST-MODIFIED:20260305T042725Z
UID:17022-1772742600-1772753400@www.lac-du-bourget.com
SUMMARY:Les Nuits de la Roulotte : concert Fatum Fatras & Mirkut
DESCRIPTION:Assistez à une soirée musicale inoubliable aux Nuits de la Roulotte à Chambéry\, au 73000\, Carré Curial. Deux concerts sont programmés : Fatum Fatras à 20h30\, suivi de Mirkut à 22h30. Réservez dès maintenant au 04 56 29 51 54 pour vivre cette expérience unique\, idéale pour les amateurs de musiques du monde.
URL:https://www.lac-du-bourget.com/evenement/les-nuits-de-la-roulotte-concert-fatum-fatras-mirkut-2/
LOCATION:Chambéry\, Chambéry\, 73000\, France
CATEGORIES:Concerts
ATTACH;FMTTYPE=image/webp:https://www.lac-du-bourget.com/wp-content/uploads/2026/03/les-nuits-de-la-roulotte-concert-fatum-chambery-2026-03-1.webp
END:VEVENT
BEGIN:VEVENT
DTSTART;TZID=Europe/Paris:20260305T200000
DTEND;TZID=Europe/Paris:20260305T213000
DTSTAMP:20260421T103914
CREATED:20260306T042403Z
LAST-MODIFIED:20260306T042408Z
UID:17112-1772740800-1772746200@www.lac-du-bourget.com
SUMMARY:Spectacle : le bruit des arbres qui tombent
DESCRIPTION:Le spectacle ‘Le bruit des arbres qui tombent’ se déroule au Théâtre Charles Dullin\, situé place du Théâtre à Chambéry. Ce poème-paysage explore les thèmes de la nature et de l’âme humaine à travers les histoires de quatre personnages. Pour toute réservation\, contactez le 04 79 85 55 43.
URL:https://www.lac-du-bourget.com/evenement/spectacle-le-bruit-des-arbres-qui-tombent/
LOCATION:Chambéry\, Chambéry\, 73000\, France
CATEGORIES:Spectacle
ATTACH;FMTTYPE=image/webp:https://www.lac-du-bourget.com/wp-content/uploads/2026/03/spectacle-le-bruit-des-arbres-qui-tomb-chambery-2026-03.webp
END:VEVENT
BEGIN:VEVENT
DTSTART;VALUE=DATE:20260305
DTEND;VALUE=DATE:20260306
DTSTAMP:20260421T103914
CREATED:20260305T042751Z
LAST-MODIFIED:20260305T042756Z
UID:17028-1772668800-1772755199@www.lac-du-bourget.com
SUMMARY:Théâtre performance : Guillotine par la Compagnie Caravelle
DESCRIPTION:La performance ‘Guillotine’\, présentée par la Compagnie Caravelle\, se déroule à La Chapelle Vaugelas à Chambéry. Cette pièce unique aborde la violence et la reconquête de soi à travers un monologue puissant. C’est une expérience immersive pour tous les amateurs de théâtre\, à ne pas manquer. Pour plus d’informations\, contactez le théâtre.
URL:https://www.lac-du-bourget.com/evenement/theatre-performance-guillotine-par-la-compagnie-caravelle-3/
LOCATION:Chambéry\, Chambéry\, 73000\, France
CATEGORIES:Spectacle
ATTACH;FMTTYPE=image/webp:https://www.lac-du-bourget.com/wp-content/uploads/2026/03/theatre-performance-guillotine-par-la-chambery-2026-03-2.webp
END:VEVENT
BEGIN:VEVENT
DTSTART;TZID=Europe/Paris:20260304T203000
DTEND;TZID=Europe/Paris:20260304T235959
DTSTAMP:20260421T103914
CREATED:20260304T180108Z
LAST-MODIFIED:20260304T180109Z
UID:16989-1772656200-1772668799@www.lac-du-bourget.com
SUMMARY:Humour : Chloé Drouet
DESCRIPTION:Venez découvrir Chloé Drouet en spectacle à La Comédie des Alpes\, située au 41 rue d’Italie à Chambéry. Le spectacle commence à 20h30 le mercredi 4 mars 2026. Réservation conseillée par téléphone au 07 66 73 12 68. Public cible : tous les amateurs d’humour.
URL:https://www.lac-du-bourget.com/evenement/humour-chloe-drouet/
LOCATION:Chambéry\, Chambéry\, 73000\, France
CATEGORIES:Spectacle
END:VEVENT
BEGIN:VEVENT
DTSTART;TZID=Europe/Paris:20260304T203000
DTEND;TZID=Europe/Paris:20260304T235959
DTSTAMP:20260421T103914
CREATED:20260227T084930Z
LAST-MODIFIED:20260304T095921Z
UID:16289-1772656200-1772668799@www.lac-du-bourget.com
SUMMARY:Humour : Chloé Drouet
DESCRIPTION:Venez découvrir Chloé Drouet en spectacle à La Comédie des Alpes\, située au 41 rue d’Italie\, Chambéry. Ce spectacle humoristique de 60 minutes est destiné à tous les amateurs d’humour. Pour toute réservation\, contactez le 07 66 73 12 68.
URL:https://www.lac-du-bourget.com/evenement/ldb-5d9593e96f4f/
LOCATION:Chambéry\, Chambéry\, 73000\, France
CATEGORIES:Spectacle
ATTACH;FMTTYPE=image/webp:https://www.lac-du-bourget.com/wp-content/uploads/2026/02/humour-chloe-drouet-chambery-2026-03.webp
END:VEVENT
BEGIN:VEVENT
DTSTART;TZID=Europe/Paris:20260304T170000
DTEND;TZID=Europe/Paris:20260304T181100
DTSTAMP:20260421T103914
CREATED:20260306T042653Z
LAST-MODIFIED:20260306T042657Z
UID:17144-1772643600-1772647860@www.lac-du-bourget.com
SUMMARY:Cinéma : Fantastique
DESCRIPTION:Le Cinéma : Fantastique à Chambéry accueille une séance avec la réalisatrice Marjolijn Prins et des acrobates de la compagnie Amoukanama. Cet événement\, destiné à un large public\, comprend une démonstration de percussions et des performances acrobatiques. Pour toute réservation\, contactez le 04 79 85 55 43.
URL:https://www.lac-du-bourget.com/evenement/cinema-fantastique-3/
LOCATION:Chambéry\, Chambéry\, 73000\, France
CATEGORIES:Cinéma
ATTACH;FMTTYPE=image/webp:https://www.lac-du-bourget.com/wp-content/uploads/2026/03/cinema-fantastique-chambery-2026-03-2.webp
END:VEVENT
BEGIN:VEVENT
DTSTART;TZID=Europe/Paris:20260304T170000
DTEND;TZID=Europe/Paris:20260304T181100
DTSTAMP:20260421T103914
CREATED:20260305T043238Z
LAST-MODIFIED:20260305T043240Z
UID:17070-1772643600-1772647860@www.lac-du-bourget.com
SUMMARY:Cinéma : Fantastique
DESCRIPTION:Le Cinéma : Fantastique se déroule à CinéMalraux\, situé au 58 place de la Brigade de Savoie à Chambéry. Ce film raconte l’histoire de Fanta\, une jeune contorsionniste guinéenne de 14 ans\, en quête de réaliser son rêve. Une séance spéciale aura lieu en présence de la réalisatrice et de deux acrobates. Un goûter sera proposé par les jeunes de l’AQCV. Pour toute réservation\, contactez le 04 79 85 55 43.
URL:https://www.lac-du-bourget.com/evenement/cinema-fantastique-2/
LOCATION:Chambéry\, Chambéry\, 73000\, France
CATEGORIES:Cinéma
ATTACH;FMTTYPE=image/webp:https://www.lac-du-bourget.com/wp-content/uploads/2026/03/cinema-fantastique-chambery-2026-03-1.webp
END:VEVENT
BEGIN:VEVENT
DTSTART;TZID=Europe/Paris:20260304T153000
DTEND;TZID=Europe/Paris:20260304T190000
DTSTAMP:20260421T103914
CREATED:20260303T061253Z
LAST-MODIFIED:20260304T095749Z
UID:16839-1772638200-1772650800@www.lac-du-bourget.com
SUMMARY:Le carnaval des animaux de la Ravoire
DESCRIPTION:Le carnaval des animaux se tient à La Ravoire\, Place de l’Hôtel de Ville\, le 4 mars 2026. À partir de 15h30\, petits et grands sont invités à venir déguisés pour un après-midi festif avec de nombreuses animations. Pour plus d’informations\, contactez le 04 79 75 92 81.
URL:https://www.lac-du-bourget.com/evenement/le-carnaval-des-animaux-de-la-ravoire/
CATEGORIES:Fêtes
ATTACH;FMTTYPE=image/webp:https://www.lac-du-bourget.com/wp-content/uploads/2026/03/le-carnaval-des-animaux-de-la-ravoire-2026-03.webp
END:VEVENT
BEGIN:VEVENT
DTSTART;TZID=Europe/Paris:20260303T203000
DTEND;TZID=Europe/Paris:20260303T223000
DTSTAMP:20260421T103914
CREATED:20260303T061108Z
LAST-MODIFIED:20260303T061112Z
UID:16819-1772569800-1772577000@www.lac-du-bourget.com
SUMMARY:Les Nuits de la Roulotte : concert La Mòssa
DESCRIPTION:Le concert La Mòssa se déroule au Théâtre Charles Dullin\, situé Place du Théâtre à Chambéry. Contactez le 04 56 29 51 54 pour plus d’informations. Accessible à tous\, cet événement met en avant des polyphonies et percussions du monde\, offrant une expérience musicale riche et vivante.
URL:https://www.lac-du-bourget.com/evenement/les-nuits-de-la-roulotte-concert-la-mossa/
LOCATION:Chambéry\, Chambéry\, 73000\, France
CATEGORIES:Concerts
ATTACH;FMTTYPE=image/webp:https://www.lac-du-bourget.com/wp-content/uploads/2026/03/les-nuits-de-la-roulotte-concert-la-mo-chambery-2026-03.webp
END:VEVENT
BEGIN:VEVENT
DTSTART;TZID=Europe/Paris:20260303T200000
DTEND;TZID=Europe/Paris:20260303T235959
DTSTAMP:20260421T103914
CREATED:20260304T095845Z
LAST-MODIFIED:20260304T095854Z
UID:16934-1772568000-1772582399@www.lac-du-bourget.com
SUMMARY:Théâtre : Guillotine
DESCRIPTION:Le spectacle ‘Guillotine’ se déroule au Théâtre/performance artistique à Chambéry\, 73000. Ce drame en trois tableaux aborde les sensations d’une victime d’agression. Pour les amateurs de théâtre et d’art dramatique\, cet événement promet une expérience saisissante. Réservez votre place en contactant le 07 49 41 85 85.
URL:https://www.lac-du-bourget.com/evenement/theatre-guillotine/
LOCATION:Chambéry\, Chambéry\, 73000\, France
CATEGORIES:Spectacle
ATTACH;FMTTYPE=image/webp:https://www.lac-du-bourget.com/wp-content/uploads/2026/03/theatre-guillotine-chambery-2026-03.webp
END:VEVENT
END:VCALENDAR