BEGIN:VCALENDAR
VERSION:2.0
PRODID:-//Lac du Bourget - ECPv6.15.20//NONSGML v1.0//EN
CALSCALE:GREGORIAN
METHOD:PUBLISH
X-WR-CALNAME:Lac du Bourget
X-ORIGINAL-URL:https://www.lac-du-bourget.com
X-WR-CALDESC:Évènements pour Lac du Bourget
REFRESH-INTERVAL;VALUE=DURATION:PT1H
X-Robots-Tag:noindex
X-PUBLISHED-TTL:PT1H
BEGIN:VTIMEZONE
TZID:Europe/Paris
BEGIN:DAYLIGHT
TZOFFSETFROM:+0100
TZOFFSETTO:+0200
TZNAME:CEST
DTSTART:20250330T010000
END:DAYLIGHT
BEGIN:STANDARD
TZOFFSETFROM:+0200
TZOFFSETTO:+0100
TZNAME:CET
DTSTART:20251026T010000
END:STANDARD
BEGIN:DAYLIGHT
TZOFFSETFROM:+0100
TZOFFSETTO:+0200
TZNAME:CEST
DTSTART:20260329T010000
END:DAYLIGHT
BEGIN:STANDARD
TZOFFSETFROM:+0200
TZOFFSETTO:+0100
TZNAME:CET
DTSTART:20261025T010000
END:STANDARD
BEGIN:DAYLIGHT
TZOFFSETFROM:+0100
TZOFFSETTO:+0200
TZNAME:CEST
DTSTART:20270328T010000
END:DAYLIGHT
BEGIN:STANDARD
TZOFFSETFROM:+0200
TZOFFSETTO:+0100
TZNAME:CET
DTSTART:20271031T010000
END:STANDARD
END:VTIMEZONE
BEGIN:VEVENT
DTSTART;TZID=Europe/Paris:20260415T203000
DTEND;TZID=Europe/Paris:20260415T235959
DTSTAMP:20260419T201404
CREATED:20260309T053013Z
LAST-MODIFIED:20260309T053016Z
UID:17374-1776285000-1776297599@www.lac-du-bourget.com
SUMMARY:Humour : Morgane Cadignan
DESCRIPTION:Morgane Cadignan propose un spectacle captivant à La Comédie des Alpes\, située au 41 rue d’Italie à Chambéry. Le spectacle aborde la thématique du mensonge dans nos vies avec humour et finesse. Pour toute réservation\, vous pouvez contacter le 07 66 73 12 68.
URL:https://www.lac-du-bourget.com/evenement/humour-morgane-cadignan/
LOCATION:Chambéry\, Chambéry\, 73000\, France
CATEGORIES:Spectacle
ATTACH;FMTTYPE=image/webp:https://www.lac-du-bourget.com/wp-content/uploads/2026/03/humour-morgane-cadignan-chambery-2026-04.webp
END:VEVENT
END:VCALENDAR