BEGIN:VCALENDAR
VERSION:2.0
PRODID:-//Lac du Bourget - ECPv6.15.20//NONSGML v1.0//EN
CALSCALE:GREGORIAN
METHOD:PUBLISH
X-ORIGINAL-URL:https://www.lac-du-bourget.com
X-WR-CALDESC:Évènements pour Lac du Bourget
REFRESH-INTERVAL;VALUE=DURATION:PT1H
X-Robots-Tag:noindex
X-PUBLISHED-TTL:PT1H
BEGIN:VTIMEZONE
TZID:Europe/Paris
BEGIN:DAYLIGHT
TZOFFSETFROM:+0100
TZOFFSETTO:+0200
TZNAME:CEST
DTSTART:20250330T010000
END:DAYLIGHT
BEGIN:STANDARD
TZOFFSETFROM:+0200
TZOFFSETTO:+0100
TZNAME:CET
DTSTART:20251026T010000
END:STANDARD
BEGIN:DAYLIGHT
TZOFFSETFROM:+0100
TZOFFSETTO:+0200
TZNAME:CEST
DTSTART:20260329T010000
END:DAYLIGHT
BEGIN:STANDARD
TZOFFSETFROM:+0200
TZOFFSETTO:+0100
TZNAME:CET
DTSTART:20261025T010000
END:STANDARD
BEGIN:DAYLIGHT
TZOFFSETFROM:+0100
TZOFFSETTO:+0200
TZNAME:CEST
DTSTART:20270328T010000
END:DAYLIGHT
BEGIN:STANDARD
TZOFFSETFROM:+0200
TZOFFSETTO:+0100
TZNAME:CET
DTSTART:20271031T010000
END:STANDARD
END:VTIMEZONE
BEGIN:VEVENT
DTSTART;TZID=Europe/Paris:20260321T143000
DTEND;TZID=Europe/Paris:20260618T160000
DTSTAMP:20260421T153551
CREATED:20260420T052327Z
LAST-MODIFIED:20260420T062635Z
UID:18662-1774103400-1781798400@www.lac-du-bourget.com
SUMMARY:Visite guidée : La Journée d'un Baigneur à la Belle Epoque
DESCRIPTION:Participez à une visite guidée à Aix-les-Bains\, au départ de la Place Maurice Mollard. Revivez la journée d’un baigneur à la Belle Epoque en découvrant les thermes\, le parc thermal\, le Grand Hôtel et le casino. Réservation obligatoire au 04 79 88 68 00. Cette activité s’adresse à tous\, amateurs d’histoire et de culture.
URL:https://www.lac-du-bourget.com/evenement/visite-guidee-la-journee-d-un-baigneur-a-la-belle-epoque/
LOCATION:Aix-les-Bains\, Aix-les-Bains\, 73100
CATEGORIES:Visite
ATTACH;FMTTYPE=image/webp:https://www.lac-du-bourget.com/wp-content/uploads/2026/04/visite-guidee-la-journee-dun-baigneur-aix-les-bains-2026-03.webp
END:VEVENT
END:VCALENDAR