BEGIN:VCALENDAR
VERSION:2.0
PRODID:-//Lac du Bourget - ECPv6.15.20//NONSGML v1.0//EN
CALSCALE:GREGORIAN
METHOD:PUBLISH
X-WR-CALNAME:Lac du Bourget
X-ORIGINAL-URL:https://www.lac-du-bourget.com
X-WR-CALDESC:Évènements pour Lac du Bourget
REFRESH-INTERVAL;VALUE=DURATION:PT1H
X-Robots-Tag:noindex
X-PUBLISHED-TTL:PT1H
BEGIN:VTIMEZONE
TZID:Europe/Paris
BEGIN:DAYLIGHT
TZOFFSETFROM:+0100
TZOFFSETTO:+0200
TZNAME:CEST
DTSTART:20250330T010000
END:DAYLIGHT
BEGIN:STANDARD
TZOFFSETFROM:+0200
TZOFFSETTO:+0100
TZNAME:CET
DTSTART:20251026T010000
END:STANDARD
BEGIN:DAYLIGHT
TZOFFSETFROM:+0100
TZOFFSETTO:+0200
TZNAME:CEST
DTSTART:20260329T010000
END:DAYLIGHT
BEGIN:STANDARD
TZOFFSETFROM:+0200
TZOFFSETTO:+0100
TZNAME:CET
DTSTART:20261025T010000
END:STANDARD
BEGIN:DAYLIGHT
TZOFFSETFROM:+0100
TZOFFSETTO:+0200
TZNAME:CEST
DTSTART:20270328T010000
END:DAYLIGHT
BEGIN:STANDARD
TZOFFSETFROM:+0200
TZOFFSETTO:+0100
TZNAME:CET
DTSTART:20271031T010000
END:STANDARD
END:VTIMEZONE
BEGIN:VEVENT
DTSTART;TZID=Europe/Paris:20260523T143000
DTEND;TZID=Europe/Paris:20260523T235959
DTSTAMP:20260422T103738
CREATED:20260420T052303Z
LAST-MODIFIED:20260420T062619Z
UID:18658-1779546600-1779580799@www.lac-du-bourget.com
SUMMARY:Visite guidée : Cyclo-balade du patrimoine
DESCRIPTION:Participez à une cyclo-balade guidée à Aix-les-Bains\, au départ de l’Office de tourisme. Cette activité est réservée aux adultes sachant faire du vélo à assistance électrique (VAE). Le guide vous fera découvrir les transformations de la ville et les rives du lac. Inscription obligatoire au 04 79 88 68 00.
URL:https://www.lac-du-bourget.com/evenement/visite-guidee-cyclo-balade-du-patrimoine/
LOCATION:Aix-les-Bains\, Aix-les-Bains\, 73100
CATEGORIES:Visite
ATTACH;FMTTYPE=image/webp:https://www.lac-du-bourget.com/wp-content/uploads/2026/04/visite-guidee-cyclo-balade-du-patrimoi-aix-les-bains-2026-05.webp
END:VEVENT
END:VCALENDAR