BEGIN:VCALENDAR
VERSION:2.0
PRODID:-//Lac du Bourget - ECPv6.15.20//NONSGML v1.0//EN
CALSCALE:GREGORIAN
METHOD:PUBLISH
X-ORIGINAL-URL:https://www.lac-du-bourget.com
X-WR-CALDESC:Évènements pour Lac du Bourget
REFRESH-INTERVAL;VALUE=DURATION:PT1H
X-Robots-Tag:noindex
X-PUBLISHED-TTL:PT1H
BEGIN:VTIMEZONE
TZID:Europe/Paris
BEGIN:DAYLIGHT
TZOFFSETFROM:+0100
TZOFFSETTO:+0200
TZNAME:CEST
DTSTART:20250330T010000
END:DAYLIGHT
BEGIN:STANDARD
TZOFFSETFROM:+0200
TZOFFSETTO:+0100
TZNAME:CET
DTSTART:20251026T010000
END:STANDARD
BEGIN:DAYLIGHT
TZOFFSETFROM:+0100
TZOFFSETTO:+0200
TZNAME:CEST
DTSTART:20260329T010000
END:DAYLIGHT
BEGIN:STANDARD
TZOFFSETFROM:+0200
TZOFFSETTO:+0100
TZNAME:CET
DTSTART:20261025T010000
END:STANDARD
BEGIN:DAYLIGHT
TZOFFSETFROM:+0100
TZOFFSETTO:+0200
TZNAME:CEST
DTSTART:20270328T010000
END:DAYLIGHT
BEGIN:STANDARD
TZOFFSETFROM:+0200
TZOFFSETTO:+0100
TZNAME:CET
DTSTART:20271031T010000
END:STANDARD
END:VTIMEZONE
BEGIN:VEVENT
DTSTART;VALUE=DATE:20260401
DTEND;VALUE=DATE:20261116
DTSTAMP:20260419T172611
CREATED:20260417T045839Z
LAST-MODIFIED:20260419T045726Z
UID:18576-1775001600-1794787199@www.lac-du-bourget.com
SUMMARY:Visites guidées du village de Chanaz
DESCRIPTION:Découvrez le village de Chanaz lors de visites guidées d’une heure\, uniquement sur réservation. Ces visites\, animées par Michelle\, Guide du Patrimoine Savoie Mont-Blanc\, vous plongeront dans l’histoire et le patrimoine de ce charmant village. Pour réserver\, contactez le 07 86 83 90 38.
URL:https://www.lac-du-bourget.com/evenement/visites-guidees-du-village-de-chanaz/
LOCATION:Chanaz\, Chanaz\, 73310\, France
CATEGORIES:Visite
ATTACH;FMTTYPE=image/webp:https://www.lac-du-bourget.com/wp-content/uploads/2026/04/visites-guidees-du-village-de-chanaz-chanaz-2026-04.webp
END:VEVENT
BEGIN:VEVENT
DTSTART;TZID=Europe/Paris:20260413T163000
DTEND;TZID=Europe/Paris:20260413T173000
DTSTAMP:20260419T172611
CREATED:20260302T175121Z
LAST-MODIFIED:20260309T052951Z
UID:16583-1776097800-1776101400@www.lac-du-bourget.com
SUMMARY:Visite thématique I Divines ! Déesses et saintes
DESCRIPTION:Participez à la visite thématique ‘Divines ! Déesses et saintes au fil des croyances’ au Musée Savoisien\, situé Place Métropole à Chambéry. Ce parcours vous fera découvrir des figures féminines sacrées telles que Vénus et Jeanne de Chantal. Réservation par téléphone au 04 56 42 43 43. Activité ouverte à tous\, idéale pour les passionnés d’histoire et de spiritualité.
URL:https://www.lac-du-bourget.com/evenement/visite-thematique-i-divines-deesses-et-saintes/
LOCATION:Chambéry\, Chambéry\, 73000\, France
CATEGORIES:Visite
ATTACH;FMTTYPE=image/webp:https://www.lac-du-bourget.com/wp-content/uploads/2026/03/visite-thematique-i-divines-deesses-et-chambery-2026-04.webp
END:VEVENT
END:VCALENDAR